BEGIN:VCALENDAR
VERSION:2.0
PRODID:-//Pulse4Life - Mind, Body, Rhythm - ECPv6.15.20//NONSGML v1.0//EN
CALSCALE:GREGORIAN
METHOD:PUBLISH
X-ORIGINAL-URL:https://www.pulse4life.co.uk
X-WR-CALDESC:Events for Pulse4Life - Mind, Body, Rhythm
REFRESH-INTERVAL;VALUE=DURATION:PT1H
X-Robots-Tag:noindex
X-PUBLISHED-TTL:PT1H
BEGIN:VTIMEZONE
TZID:Europe/London
BEGIN:DAYLIGHT
TZOFFSETFROM:+0000
TZOFFSETTO:+0100
TZNAME:BST
DTSTART:20200329T010000
END:DAYLIGHT
BEGIN:STANDARD
TZOFFSETFROM:+0100
TZOFFSETTO:+0000
TZNAME:GMT
DTSTART:20201025T010000
END:STANDARD
BEGIN:DAYLIGHT
TZOFFSETFROM:+0000
TZOFFSETTO:+0100
TZNAME:BST
DTSTART:20210328T010000
END:DAYLIGHT
BEGIN:STANDARD
TZOFFSETFROM:+0100
TZOFFSETTO:+0000
TZNAME:GMT
DTSTART:20211031T010000
END:STANDARD
BEGIN:DAYLIGHT
TZOFFSETFROM:+0000
TZOFFSETTO:+0100
TZNAME:BST
DTSTART:20220327T010000
END:DAYLIGHT
BEGIN:STANDARD
TZOFFSETFROM:+0100
TZOFFSETTO:+0000
TZNAME:GMT
DTSTART:20221030T010000
END:STANDARD
BEGIN:DAYLIGHT
TZOFFSETFROM:+0000
TZOFFSETTO:+0100
TZNAME:BST
DTSTART:20230326T010000
END:DAYLIGHT
BEGIN:STANDARD
TZOFFSETFROM:+0100
TZOFFSETTO:+0000
TZNAME:GMT
DTSTART:20231029T010000
END:STANDARD
END:VTIMEZONE
BEGIN:VEVENT
DTSTART;TZID=Europe/London:20220526T110000
DTEND;TZID=Europe/London:20220526T123000
DTSTAMP:20260420T091158
CREATED:20211215T171641Z
LAST-MODIFIED:20230611T183011Z
UID:10001356-1653562800-1653568200@www.pulse4life.co.uk
SUMMARY:HOME ED. SPORTS Stroud
DESCRIPTION:Multi-Sports sessions in the park – fun first!\nTag games\, invasion sports\, striking and fielding\, athletics are all part of these inclusive sessions. \nA small\, friendly\, active\, no pressure class where everyone is valued and develops both individual and group skills \nBook air space now!
URL:https://www.pulse4life.co.uk/event/stroud-home-ed/2022-05-26/
CATEGORIES:Home Ed
ATTACH;FMTTYPE=image/jpeg:https://www.pulse4life.co.uk/wp-content/uploads/2018/04/home-ed-4.jpg
ORGANIZER;CN="Stuart Dunn":MAILTO:stuart@pulse4life.co.uk
END:VEVENT
BEGIN:VEVENT
DTSTART;TZID=Europe/London:20220519T110000
DTEND;TZID=Europe/London:20220519T123000
DTSTAMP:20260420T091158
CREATED:20211215T171641Z
LAST-MODIFIED:20230611T183011Z
UID:10001355-1652958000-1652963400@www.pulse4life.co.uk
SUMMARY:HOME ED. SPORTS Stroud
DESCRIPTION:Multi-Sports sessions in the park – fun first!\nTag games\, invasion sports\, striking and fielding\, athletics are all part of these inclusive sessions. \nA small\, friendly\, active\, no pressure class where everyone is valued and develops both individual and group skills \nBook air space now!
URL:https://www.pulse4life.co.uk/event/stroud-home-ed/2022-05-19/
CATEGORIES:Home Ed
ATTACH;FMTTYPE=image/jpeg:https://www.pulse4life.co.uk/wp-content/uploads/2018/04/home-ed-4.jpg
ORGANIZER;CN="Stuart Dunn":MAILTO:stuart@pulse4life.co.uk
END:VEVENT
BEGIN:VEVENT
DTSTART;TZID=Europe/London:20220512T110000
DTEND;TZID=Europe/London:20220512T123000
DTSTAMP:20260420T091158
CREATED:20211215T171641Z
LAST-MODIFIED:20230611T183011Z
UID:10001354-1652353200-1652358600@www.pulse4life.co.uk
SUMMARY:HOME ED. SPORTS Stroud
DESCRIPTION:Multi-Sports sessions in the park – fun first!\nTag games\, invasion sports\, striking and fielding\, athletics are all part of these inclusive sessions. \nA small\, friendly\, active\, no pressure class where everyone is valued and develops both individual and group skills \nBook air space now!
URL:https://www.pulse4life.co.uk/event/stroud-home-ed/2022-05-12/
CATEGORIES:Home Ed
ATTACH;FMTTYPE=image/jpeg:https://www.pulse4life.co.uk/wp-content/uploads/2018/04/home-ed-4.jpg
ORGANIZER;CN="Stuart Dunn":MAILTO:stuart@pulse4life.co.uk
END:VEVENT
BEGIN:VEVENT
DTSTART;TZID=Europe/London:20220505T110000
DTEND;TZID=Europe/London:20220505T123000
DTSTAMP:20260420T091158
CREATED:20211215T171641Z
LAST-MODIFIED:20230611T183011Z
UID:10001353-1651748400-1651753800@www.pulse4life.co.uk
SUMMARY:HOME ED. SPORTS Stroud
DESCRIPTION:Multi-Sports sessions in the park – fun first!\nTag games\, invasion sports\, striking and fielding\, athletics are all part of these inclusive sessions. \nA small\, friendly\, active\, no pressure class where everyone is valued and develops both individual and group skills \nBook air space now!
URL:https://www.pulse4life.co.uk/event/stroud-home-ed/2022-05-05/
CATEGORIES:Home Ed
ATTACH;FMTTYPE=image/jpeg:https://www.pulse4life.co.uk/wp-content/uploads/2018/04/home-ed-4.jpg
ORGANIZER;CN="Stuart Dunn":MAILTO:stuart@pulse4life.co.uk
END:VEVENT
BEGIN:VEVENT
DTSTART;TZID=Europe/London:20220428T110000
DTEND;TZID=Europe/London:20220428T123000
DTSTAMP:20260420T091158
CREATED:20211215T171641Z
LAST-MODIFIED:20230611T183011Z
UID:10001352-1651143600-1651149000@www.pulse4life.co.uk
SUMMARY:HOME ED. SPORTS Stroud
DESCRIPTION:Multi-Sports sessions in the park – fun first!\nTag games\, invasion sports\, striking and fielding\, athletics are all part of these inclusive sessions. \nA small\, friendly\, active\, no pressure class where everyone is valued and develops both individual and group skills \nBook air space now!
URL:https://www.pulse4life.co.uk/event/stroud-home-ed/2022-04-28/
CATEGORIES:Home Ed
ATTACH;FMTTYPE=image/jpeg:https://www.pulse4life.co.uk/wp-content/uploads/2018/04/home-ed-4.jpg
ORGANIZER;CN="Stuart Dunn":MAILTO:stuart@pulse4life.co.uk
END:VEVENT
BEGIN:VEVENT
DTSTART;TZID=Europe/London:20220421T110000
DTEND;TZID=Europe/London:20220421T123000
DTSTAMP:20260420T091158
CREATED:20211215T171641Z
LAST-MODIFIED:20230611T183011Z
UID:10001351-1650538800-1650544200@www.pulse4life.co.uk
SUMMARY:HOME ED. SPORTS Stroud
DESCRIPTION:Multi-Sports sessions in the park – fun first!\nTag games\, invasion sports\, striking and fielding\, athletics are all part of these inclusive sessions. \nA small\, friendly\, active\, no pressure class where everyone is valued and develops both individual and group skills \nBook air space now!
URL:https://www.pulse4life.co.uk/event/stroud-home-ed/2022-04-21/
CATEGORIES:Home Ed
ATTACH;FMTTYPE=image/jpeg:https://www.pulse4life.co.uk/wp-content/uploads/2018/04/home-ed-4.jpg
ORGANIZER;CN="Stuart Dunn":MAILTO:stuart@pulse4life.co.uk
END:VEVENT
BEGIN:VEVENT
DTSTART;TZID=Europe/London:20220414T110000
DTEND;TZID=Europe/London:20220414T123000
DTSTAMP:20260420T091158
CREATED:20211215T171641Z
LAST-MODIFIED:20230611T183011Z
UID:10001350-1649934000-1649939400@www.pulse4life.co.uk
SUMMARY:HOME ED. SPORTS Stroud
DESCRIPTION:Multi-Sports sessions in the park – fun first!\nTag games\, invasion sports\, striking and fielding\, athletics are all part of these inclusive sessions. \nA small\, friendly\, active\, no pressure class where everyone is valued and develops both individual and group skills \nBook air space now!
URL:https://www.pulse4life.co.uk/event/stroud-home-ed/2022-04-14/
CATEGORIES:Home Ed
ATTACH;FMTTYPE=image/jpeg:https://www.pulse4life.co.uk/wp-content/uploads/2018/04/home-ed-4.jpg
ORGANIZER;CN="Stuart Dunn":MAILTO:stuart@pulse4life.co.uk
END:VEVENT
BEGIN:VEVENT
DTSTART;TZID=Europe/London:20220407T110000
DTEND;TZID=Europe/London:20220407T123000
DTSTAMP:20260420T091158
CREATED:20211215T171641Z
LAST-MODIFIED:20230611T183011Z
UID:10001349-1649329200-1649334600@www.pulse4life.co.uk
SUMMARY:HOME ED. SPORTS Stroud
DESCRIPTION:Multi-Sports sessions in the park – fun first!\nTag games\, invasion sports\, striking and fielding\, athletics are all part of these inclusive sessions. \nA small\, friendly\, active\, no pressure class where everyone is valued and develops both individual and group skills \nBook air space now!
URL:https://www.pulse4life.co.uk/event/stroud-home-ed/2022-04-07/
CATEGORIES:Home Ed
ATTACH;FMTTYPE=image/jpeg:https://www.pulse4life.co.uk/wp-content/uploads/2018/04/home-ed-4.jpg
ORGANIZER;CN="Stuart Dunn":MAILTO:stuart@pulse4life.co.uk
END:VEVENT
BEGIN:VEVENT
DTSTART;TZID=Europe/London:20220331T110000
DTEND;TZID=Europe/London:20220331T123000
DTSTAMP:20260420T091158
CREATED:20211215T171641Z
LAST-MODIFIED:20230611T183011Z
UID:10001348-1648724400-1648729800@www.pulse4life.co.uk
SUMMARY:HOME ED. SPORTS Stroud
DESCRIPTION:Multi-Sports sessions in the park – fun first!\nTag games\, invasion sports\, striking and fielding\, athletics are all part of these inclusive sessions. \nA small\, friendly\, active\, no pressure class where everyone is valued and develops both individual and group skills \nBook air space now!
URL:https://www.pulse4life.co.uk/event/stroud-home-ed/2022-03-31/
CATEGORIES:Home Ed
ATTACH;FMTTYPE=image/jpeg:https://www.pulse4life.co.uk/wp-content/uploads/2018/04/home-ed-4.jpg
ORGANIZER;CN="Stuart Dunn":MAILTO:stuart@pulse4life.co.uk
END:VEVENT
BEGIN:VEVENT
DTSTART;TZID=Europe/London:20220324T110000
DTEND;TZID=Europe/London:20220324T123000
DTSTAMP:20260420T091158
CREATED:20211215T171641Z
LAST-MODIFIED:20230611T183011Z
UID:10001347-1648119600-1648125000@www.pulse4life.co.uk
SUMMARY:HOME ED. SPORTS Stroud
DESCRIPTION:Multi-Sports sessions in the park – fun first!\nTag games\, invasion sports\, striking and fielding\, athletics are all part of these inclusive sessions. \nA small\, friendly\, active\, no pressure class where everyone is valued and develops both individual and group skills \nBook air space now!
URL:https://www.pulse4life.co.uk/event/stroud-home-ed/2022-03-24/
CATEGORIES:Home Ed
ATTACH;FMTTYPE=image/jpeg:https://www.pulse4life.co.uk/wp-content/uploads/2018/04/home-ed-4.jpg
ORGANIZER;CN="Stuart Dunn":MAILTO:stuart@pulse4life.co.uk
END:VEVENT
BEGIN:VEVENT
DTSTART;TZID=Europe/London:20220317T110000
DTEND;TZID=Europe/London:20220317T123000
DTSTAMP:20260420T091158
CREATED:20211215T171641Z
LAST-MODIFIED:20230611T183011Z
UID:10001346-1647514800-1647520200@www.pulse4life.co.uk
SUMMARY:HOME ED. SPORTS Stroud
DESCRIPTION:Multi-Sports sessions in the park – fun first!\nTag games\, invasion sports\, striking and fielding\, athletics are all part of these inclusive sessions. \nA small\, friendly\, active\, no pressure class where everyone is valued and develops both individual and group skills \nBook air space now!
URL:https://www.pulse4life.co.uk/event/stroud-home-ed/2022-03-17/
CATEGORIES:Home Ed
ATTACH;FMTTYPE=image/jpeg:https://www.pulse4life.co.uk/wp-content/uploads/2018/04/home-ed-4.jpg
ORGANIZER;CN="Stuart Dunn":MAILTO:stuart@pulse4life.co.uk
END:VEVENT
BEGIN:VEVENT
DTSTART;TZID=Europe/London:20220310T110000
DTEND;TZID=Europe/London:20220310T123000
DTSTAMP:20260420T091158
CREATED:20211215T171641Z
LAST-MODIFIED:20230611T183011Z
UID:10001345-1646910000-1646915400@www.pulse4life.co.uk
SUMMARY:HOME ED. SPORTS Stroud
DESCRIPTION:Multi-Sports sessions in the park – fun first!\nTag games\, invasion sports\, striking and fielding\, athletics are all part of these inclusive sessions. \nA small\, friendly\, active\, no pressure class where everyone is valued and develops both individual and group skills \nBook air space now!
URL:https://www.pulse4life.co.uk/event/stroud-home-ed/2022-03-10/
CATEGORIES:Home Ed
ATTACH;FMTTYPE=image/jpeg:https://www.pulse4life.co.uk/wp-content/uploads/2018/04/home-ed-4.jpg
ORGANIZER;CN="Stuart Dunn":MAILTO:stuart@pulse4life.co.uk
END:VEVENT
BEGIN:VEVENT
DTSTART;TZID=Europe/London:20220303T110000
DTEND;TZID=Europe/London:20220303T123000
DTSTAMP:20260420T091158
CREATED:20211215T171641Z
LAST-MODIFIED:20230611T183011Z
UID:10001344-1646305200-1646310600@www.pulse4life.co.uk
SUMMARY:HOME ED. SPORTS Stroud
DESCRIPTION:Multi-Sports sessions in the park – fun first!\nTag games\, invasion sports\, striking and fielding\, athletics are all part of these inclusive sessions. \nA small\, friendly\, active\, no pressure class where everyone is valued and develops both individual and group skills \nBook air space now!
URL:https://www.pulse4life.co.uk/event/stroud-home-ed/2022-03-03/
CATEGORIES:Home Ed
ATTACH;FMTTYPE=image/jpeg:https://www.pulse4life.co.uk/wp-content/uploads/2018/04/home-ed-4.jpg
ORGANIZER;CN="Stuart Dunn":MAILTO:stuart@pulse4life.co.uk
END:VEVENT
BEGIN:VEVENT
DTSTART;TZID=Europe/London:20220224T110000
DTEND;TZID=Europe/London:20220224T123000
DTSTAMP:20260420T091158
CREATED:20211215T171641Z
LAST-MODIFIED:20230611T183011Z
UID:10001343-1645700400-1645705800@www.pulse4life.co.uk
SUMMARY:HOME ED. SPORTS Stroud
DESCRIPTION:Multi-Sports sessions in the park – fun first!\nTag games\, invasion sports\, striking and fielding\, athletics are all part of these inclusive sessions. \nA small\, friendly\, active\, no pressure class where everyone is valued and develops both individual and group skills \nBook air space now!
URL:https://www.pulse4life.co.uk/event/stroud-home-ed/2022-02-24/
CATEGORIES:Home Ed
ATTACH;FMTTYPE=image/jpeg:https://www.pulse4life.co.uk/wp-content/uploads/2018/04/home-ed-4.jpg
ORGANIZER;CN="Stuart Dunn":MAILTO:stuart@pulse4life.co.uk
END:VEVENT
BEGIN:VEVENT
DTSTART;TZID=Europe/London:20220217T110000
DTEND;TZID=Europe/London:20220217T123000
DTSTAMP:20260420T091158
CREATED:20211215T171641Z
LAST-MODIFIED:20230611T183011Z
UID:10001342-1645095600-1645101000@www.pulse4life.co.uk
SUMMARY:HOME ED. SPORTS Stroud
DESCRIPTION:Multi-Sports sessions in the park – fun first!\nTag games\, invasion sports\, striking and fielding\, athletics are all part of these inclusive sessions. \nA small\, friendly\, active\, no pressure class where everyone is valued and develops both individual and group skills \nBook air space now!
URL:https://www.pulse4life.co.uk/event/stroud-home-ed/2022-02-17/
CATEGORIES:Home Ed
ATTACH;FMTTYPE=image/jpeg:https://www.pulse4life.co.uk/wp-content/uploads/2018/04/home-ed-4.jpg
ORGANIZER;CN="Stuart Dunn":MAILTO:stuart@pulse4life.co.uk
END:VEVENT
BEGIN:VEVENT
DTSTART;TZID=Europe/London:20220210T110000
DTEND;TZID=Europe/London:20220210T123000
DTSTAMP:20260420T091158
CREATED:20211215T172053Z
LAST-MODIFIED:20211215T172053Z
UID:10001381-1644490800-1644496200@www.pulse4life.co.uk
SUMMARY:Stroud Home Ed Sports
DESCRIPTION:Multi-Sports sessions in the park – fun first!\nTag games\, invasion sports\, striking and fielding\, athletics are all part of these inclusive sessions. \nA small\, friendly\, active\, no pressure class where everyone is valued and develops both individual and group skills. \n£42 (6 wk block) \nBook air space now!
URL:https://www.pulse4life.co.uk/event/stroud-home-ed-sports-2/2022-02-10/
CATEGORIES:Home Ed
ATTACH;FMTTYPE=image/jpeg:https://www.pulse4life.co.uk/wp-content/uploads/2018/04/home-ed-4.jpg
ORGANIZER;CN="Stuart Dunn":MAILTO:stuart@pulse4life.co.uk
END:VEVENT
BEGIN:VEVENT
DTSTART;TZID=Europe/London:20220210T110000
DTEND;TZID=Europe/London:20220210T123000
DTSTAMP:20260420T091158
CREATED:20211215T171641Z
LAST-MODIFIED:20230611T183011Z
UID:10001341-1644490800-1644496200@www.pulse4life.co.uk
SUMMARY:HOME ED. SPORTS Stroud
DESCRIPTION:Multi-Sports sessions in the park – fun first!\nTag games\, invasion sports\, striking and fielding\, athletics are all part of these inclusive sessions. \nA small\, friendly\, active\, no pressure class where everyone is valued and develops both individual and group skills \nBook air space now!
URL:https://www.pulse4life.co.uk/event/stroud-home-ed/2022-02-10/
CATEGORIES:Home Ed
ATTACH;FMTTYPE=image/jpeg:https://www.pulse4life.co.uk/wp-content/uploads/2018/04/home-ed-4.jpg
ORGANIZER;CN="Stuart Dunn":MAILTO:stuart@pulse4life.co.uk
END:VEVENT
BEGIN:VEVENT
DTSTART;TZID=Europe/London:20220203T110000
DTEND;TZID=Europe/London:20220203T123000
DTSTAMP:20260420T091158
CREATED:20211215T172053Z
LAST-MODIFIED:20211215T172053Z
UID:10001380-1643886000-1643891400@www.pulse4life.co.uk
SUMMARY:Stroud Home Ed Sports
DESCRIPTION:Multi-Sports sessions in the park – fun first!\nTag games\, invasion sports\, striking and fielding\, athletics are all part of these inclusive sessions. \nA small\, friendly\, active\, no pressure class where everyone is valued and develops both individual and group skills. \n£42 (6 wk block) \nBook air space now!
URL:https://www.pulse4life.co.uk/event/stroud-home-ed-sports-2/2022-02-03/
CATEGORIES:Home Ed
ATTACH;FMTTYPE=image/jpeg:https://www.pulse4life.co.uk/wp-content/uploads/2018/04/home-ed-4.jpg
ORGANIZER;CN="Stuart Dunn":MAILTO:stuart@pulse4life.co.uk
END:VEVENT
BEGIN:VEVENT
DTSTART;TZID=Europe/London:20220203T110000
DTEND;TZID=Europe/London:20220203T123000
DTSTAMP:20260420T091158
CREATED:20211215T171641Z
LAST-MODIFIED:20230611T183011Z
UID:10001340-1643886000-1643891400@www.pulse4life.co.uk
SUMMARY:HOME ED. SPORTS Stroud
DESCRIPTION:Multi-Sports sessions in the park – fun first!\nTag games\, invasion sports\, striking and fielding\, athletics are all part of these inclusive sessions. \nA small\, friendly\, active\, no pressure class where everyone is valued and develops both individual and group skills \nBook air space now!
URL:https://www.pulse4life.co.uk/event/stroud-home-ed/2022-02-03/
CATEGORIES:Home Ed
ATTACH;FMTTYPE=image/jpeg:https://www.pulse4life.co.uk/wp-content/uploads/2018/04/home-ed-4.jpg
ORGANIZER;CN="Stuart Dunn":MAILTO:stuart@pulse4life.co.uk
END:VEVENT
BEGIN:VEVENT
DTSTART;TZID=Europe/London:20220127T110000
DTEND;TZID=Europe/London:20220127T123000
DTSTAMP:20260420T091158
CREATED:20211215T172053Z
LAST-MODIFIED:20211215T172053Z
UID:10001379-1643281200-1643286600@www.pulse4life.co.uk
SUMMARY:Stroud Home Ed Sports
DESCRIPTION:Multi-Sports sessions in the park – fun first!\nTag games\, invasion sports\, striking and fielding\, athletics are all part of these inclusive sessions. \nA small\, friendly\, active\, no pressure class where everyone is valued and develops both individual and group skills. \n£42 (6 wk block) \nBook air space now!
URL:https://www.pulse4life.co.uk/event/stroud-home-ed-sports-2/2022-01-27/
CATEGORIES:Home Ed
ATTACH;FMTTYPE=image/jpeg:https://www.pulse4life.co.uk/wp-content/uploads/2018/04/home-ed-4.jpg
ORGANIZER;CN="Stuart Dunn":MAILTO:stuart@pulse4life.co.uk
END:VEVENT
BEGIN:VEVENT
DTSTART;TZID=Europe/London:20220127T110000
DTEND;TZID=Europe/London:20220127T123000
DTSTAMP:20260420T091158
CREATED:20211215T171641Z
LAST-MODIFIED:20230611T183011Z
UID:10001339-1643281200-1643286600@www.pulse4life.co.uk
SUMMARY:HOME ED. SPORTS Stroud
DESCRIPTION:Multi-Sports sessions in the park – fun first!\nTag games\, invasion sports\, striking and fielding\, athletics are all part of these inclusive sessions. \nA small\, friendly\, active\, no pressure class where everyone is valued and develops both individual and group skills \nBook air space now!
URL:https://www.pulse4life.co.uk/event/stroud-home-ed/2022-01-27/
CATEGORIES:Home Ed
ATTACH;FMTTYPE=image/jpeg:https://www.pulse4life.co.uk/wp-content/uploads/2018/04/home-ed-4.jpg
ORGANIZER;CN="Stuart Dunn":MAILTO:stuart@pulse4life.co.uk
END:VEVENT
BEGIN:VEVENT
DTSTART;TZID=Europe/London:20220120T110000
DTEND;TZID=Europe/London:20220120T123000
DTSTAMP:20260420T091158
CREATED:20211215T172053Z
LAST-MODIFIED:20211215T172053Z
UID:10001378-1642676400-1642681800@www.pulse4life.co.uk
SUMMARY:Stroud Home Ed Sports
DESCRIPTION:Multi-Sports sessions in the park – fun first!\nTag games\, invasion sports\, striking and fielding\, athletics are all part of these inclusive sessions. \nA small\, friendly\, active\, no pressure class where everyone is valued and develops both individual and group skills. \n£42 (6 wk block) \nBook air space now!
URL:https://www.pulse4life.co.uk/event/stroud-home-ed-sports-2/2022-01-20/
CATEGORIES:Home Ed
ATTACH;FMTTYPE=image/jpeg:https://www.pulse4life.co.uk/wp-content/uploads/2018/04/home-ed-4.jpg
ORGANIZER;CN="Stuart Dunn":MAILTO:stuart@pulse4life.co.uk
END:VEVENT
BEGIN:VEVENT
DTSTART;TZID=Europe/London:20220120T110000
DTEND;TZID=Europe/London:20220120T123000
DTSTAMP:20260420T091158
CREATED:20211215T171641Z
LAST-MODIFIED:20230611T183011Z
UID:10001338-1642676400-1642681800@www.pulse4life.co.uk
SUMMARY:HOME ED. SPORTS Stroud
DESCRIPTION:Multi-Sports sessions in the park – fun first!\nTag games\, invasion sports\, striking and fielding\, athletics are all part of these inclusive sessions. \nA small\, friendly\, active\, no pressure class where everyone is valued and develops both individual and group skills \nBook air space now!
URL:https://www.pulse4life.co.uk/event/stroud-home-ed/2022-01-20/
CATEGORIES:Home Ed
ATTACH;FMTTYPE=image/jpeg:https://www.pulse4life.co.uk/wp-content/uploads/2018/04/home-ed-4.jpg
ORGANIZER;CN="Stuart Dunn":MAILTO:stuart@pulse4life.co.uk
END:VEVENT
BEGIN:VEVENT
DTSTART;TZID=Europe/London:20220113T110000
DTEND;TZID=Europe/London:20220113T123000
DTSTAMP:20260420T091158
CREATED:20211215T172053Z
LAST-MODIFIED:20211215T172053Z
UID:10001377-1642071600-1642077000@www.pulse4life.co.uk
SUMMARY:Stroud Home Ed Sports
DESCRIPTION:Multi-Sports sessions in the park – fun first!\nTag games\, invasion sports\, striking and fielding\, athletics are all part of these inclusive sessions. \nA small\, friendly\, active\, no pressure class where everyone is valued and develops both individual and group skills. \n£42 (6 wk block) \nBook air space now!
URL:https://www.pulse4life.co.uk/event/stroud-home-ed-sports-2/2022-01-13/
CATEGORIES:Home Ed
ATTACH;FMTTYPE=image/jpeg:https://www.pulse4life.co.uk/wp-content/uploads/2018/04/home-ed-4.jpg
ORGANIZER;CN="Stuart Dunn":MAILTO:stuart@pulse4life.co.uk
END:VEVENT
BEGIN:VEVENT
DTSTART;TZID=Europe/London:20220113T110000
DTEND;TZID=Europe/London:20220113T123000
DTSTAMP:20260420T091158
CREATED:20211215T171641Z
LAST-MODIFIED:20230611T183011Z
UID:10001337-1642071600-1642077000@www.pulse4life.co.uk
SUMMARY:HOME ED. SPORTS Stroud
DESCRIPTION:Multi-Sports sessions in the park – fun first!\nTag games\, invasion sports\, striking and fielding\, athletics are all part of these inclusive sessions. \nA small\, friendly\, active\, no pressure class where everyone is valued and develops both individual and group skills \nBook air space now!
URL:https://www.pulse4life.co.uk/event/stroud-home-ed/2022-01-13/
CATEGORIES:Home Ed
ATTACH;FMTTYPE=image/jpeg:https://www.pulse4life.co.uk/wp-content/uploads/2018/04/home-ed-4.jpg
ORGANIZER;CN="Stuart Dunn":MAILTO:stuart@pulse4life.co.uk
END:VEVENT
BEGIN:VEVENT
DTSTART;TZID=Europe/London:20220106T110000
DTEND;TZID=Europe/London:20220106T123000
DTSTAMP:20260420T091158
CREATED:20211215T172053Z
LAST-MODIFIED:20211215T172053Z
UID:10001376-1641466800-1641472200@www.pulse4life.co.uk
SUMMARY:Stroud Home Ed Sports
DESCRIPTION:Multi-Sports sessions in the park – fun first!\nTag games\, invasion sports\, striking and fielding\, athletics are all part of these inclusive sessions. \nA small\, friendly\, active\, no pressure class where everyone is valued and develops both individual and group skills. \n£42 (6 wk block) \nBook air space now!
URL:https://www.pulse4life.co.uk/event/stroud-home-ed-sports-2/2022-01-06/
CATEGORIES:Home Ed
ATTACH;FMTTYPE=image/jpeg:https://www.pulse4life.co.uk/wp-content/uploads/2018/04/home-ed-4.jpg
ORGANIZER;CN="Stuart Dunn":MAILTO:stuart@pulse4life.co.uk
END:VEVENT
BEGIN:VEVENT
DTSTART;TZID=Europe/London:20220106T110000
DTEND;TZID=Europe/London:20220106T123000
DTSTAMP:20260420T091158
CREATED:20211215T171641Z
LAST-MODIFIED:20230611T183011Z
UID:10001336-1641466800-1641472200@www.pulse4life.co.uk
SUMMARY:HOME ED. SPORTS Stroud
DESCRIPTION:Multi-Sports sessions in the park – fun first!\nTag games\, invasion sports\, striking and fielding\, athletics are all part of these inclusive sessions. \nA small\, friendly\, active\, no pressure class where everyone is valued and develops both individual and group skills \nBook air space now!
URL:https://www.pulse4life.co.uk/event/stroud-home-ed/2022-01-06/
CATEGORIES:Home Ed
ATTACH;FMTTYPE=image/jpeg:https://www.pulse4life.co.uk/wp-content/uploads/2018/04/home-ed-4.jpg
ORGANIZER;CN="Stuart Dunn":MAILTO:stuart@pulse4life.co.uk
END:VEVENT
BEGIN:VEVENT
DTSTART;TZID=Europe/London:20211230T110000
DTEND;TZID=Europe/London:20211230T123000
DTSTAMP:20260420T091158
CREATED:20211215T171641Z
LAST-MODIFIED:20230611T183011Z
UID:10001335-1640862000-1640867400@www.pulse4life.co.uk
SUMMARY:HOME ED. SPORTS Stroud
DESCRIPTION:Multi-Sports sessions in the park – fun first!\nTag games\, invasion sports\, striking and fielding\, athletics are all part of these inclusive sessions. \nA small\, friendly\, active\, no pressure class where everyone is valued and develops both individual and group skills \nBook air space now!
URL:https://www.pulse4life.co.uk/event/stroud-home-ed/2021-12-30/
CATEGORIES:Home Ed
ATTACH;FMTTYPE=image/jpeg:https://www.pulse4life.co.uk/wp-content/uploads/2018/04/home-ed-4.jpg
ORGANIZER;CN="Stuart Dunn":MAILTO:stuart@pulse4life.co.uk
END:VEVENT
BEGIN:VEVENT
DTSTART;TZID=Europe/London:20211223T110000
DTEND;TZID=Europe/London:20211223T123000
DTSTAMP:20260420T091158
CREATED:20211215T171641Z
LAST-MODIFIED:20230611T183011Z
UID:10001334-1640257200-1640262600@www.pulse4life.co.uk
SUMMARY:HOME ED. SPORTS Stroud
DESCRIPTION:Multi-Sports sessions in the park – fun first!\nTag games\, invasion sports\, striking and fielding\, athletics are all part of these inclusive sessions. \nA small\, friendly\, active\, no pressure class where everyone is valued and develops both individual and group skills \nBook air space now!
URL:https://www.pulse4life.co.uk/event/stroud-home-ed/2021-12-23/
CATEGORIES:Home Ed
ATTACH;FMTTYPE=image/jpeg:https://www.pulse4life.co.uk/wp-content/uploads/2018/04/home-ed-4.jpg
ORGANIZER;CN="Stuart Dunn":MAILTO:stuart@pulse4life.co.uk
END:VEVENT
BEGIN:VEVENT
DTSTART;TZID=Europe/London:20211216T110000
DTEND;TZID=Europe/London:20211216T123000
DTSTAMP:20260420T091158
CREATED:20211215T171641Z
LAST-MODIFIED:20230611T183011Z
UID:10001333-1639652400-1639657800@www.pulse4life.co.uk
SUMMARY:HOME ED. SPORTS Stroud
DESCRIPTION:Multi-Sports sessions in the park – fun first!\nTag games\, invasion sports\, striking and fielding\, athletics are all part of these inclusive sessions. \nA small\, friendly\, active\, no pressure class where everyone is valued and develops both individual and group skills \nBook air space now!
URL:https://www.pulse4life.co.uk/event/stroud-home-ed/2021-12-16/
CATEGORIES:Home Ed
ATTACH;FMTTYPE=image/jpeg:https://www.pulse4life.co.uk/wp-content/uploads/2018/04/home-ed-4.jpg
ORGANIZER;CN="Stuart Dunn":MAILTO:stuart@pulse4life.co.uk
END:VEVENT
END:VCALENDAR