BEGIN:VCALENDAR
VERSION:2.0
PRODID:-//Pulse4Life - Mind, Body, Rhythm - ECPv6.15.20//NONSGML v1.0//EN
CALSCALE:GREGORIAN
METHOD:PUBLISH
X-ORIGINAL-URL:https://www.pulse4life.co.uk
X-WR-CALDESC:Events for Pulse4Life - Mind, Body, Rhythm
REFRESH-INTERVAL;VALUE=DURATION:PT1H
X-Robots-Tag:noindex
X-PUBLISHED-TTL:PT1H
BEGIN:VTIMEZONE
TZID:Europe/London
BEGIN:DAYLIGHT
TZOFFSETFROM:+0000
TZOFFSETTO:+0100
TZNAME:BST
DTSTART:20210328T010000
END:DAYLIGHT
BEGIN:STANDARD
TZOFFSETFROM:+0100
TZOFFSETTO:+0000
TZNAME:GMT
DTSTART:20211031T010000
END:STANDARD
BEGIN:DAYLIGHT
TZOFFSETFROM:+0000
TZOFFSETTO:+0100
TZNAME:BST
DTSTART:20220327T010000
END:DAYLIGHT
BEGIN:STANDARD
TZOFFSETFROM:+0100
TZOFFSETTO:+0000
TZNAME:GMT
DTSTART:20221030T010000
END:STANDARD
BEGIN:DAYLIGHT
TZOFFSETFROM:+0000
TZOFFSETTO:+0100
TZNAME:BST
DTSTART:20230326T010000
END:DAYLIGHT
BEGIN:STANDARD
TZOFFSETFROM:+0100
TZOFFSETTO:+0000
TZNAME:GMT
DTSTART:20231029T010000
END:STANDARD
BEGIN:DAYLIGHT
TZOFFSETFROM:+0000
TZOFFSETTO:+0100
TZNAME:BST
DTSTART:20240331T010000
END:DAYLIGHT
BEGIN:STANDARD
TZOFFSETFROM:+0100
TZOFFSETTO:+0000
TZNAME:GMT
DTSTART:20241027T010000
END:STANDARD
END:VTIMEZONE
BEGIN:VEVENT
DTSTART;TZID=Europe/London:20230302T110000
DTEND;TZID=Europe/London:20230302T123000
DTSTAMP:20260420T022738
CREATED:20211215T171641Z
LAST-MODIFIED:20230611T183011Z
UID:10001815-1677754800-1677760200@www.pulse4life.co.uk
SUMMARY:HOME ED. SPORTS Stroud
DESCRIPTION:Multi-Sports sessions in the park – fun first!\nTag games\, invasion sports\, striking and fielding\, athletics are all part of these inclusive sessions. \nA small\, friendly\, active\, no pressure class where everyone is valued and develops both individual and group skills \nBook air space now!
URL:https://www.pulse4life.co.uk/event/stroud-home-ed/2023-03-02/
CATEGORIES:Home Ed
ATTACH;FMTTYPE=image/jpeg:https://www.pulse4life.co.uk/wp-content/uploads/2018/04/home-ed-4.jpg
ORGANIZER;CN="Stuart Dunn":MAILTO:stuart@pulse4life.co.uk
END:VEVENT
BEGIN:VEVENT
DTSTART;TZID=Europe/London:20230223T110000
DTEND;TZID=Europe/London:20230223T123000
DTSTAMP:20260420T022738
CREATED:20211215T171641Z
LAST-MODIFIED:20230611T183011Z
UID:10001814-1677150000-1677155400@www.pulse4life.co.uk
SUMMARY:HOME ED. SPORTS Stroud
DESCRIPTION:Multi-Sports sessions in the park – fun first!\nTag games\, invasion sports\, striking and fielding\, athletics are all part of these inclusive sessions. \nA small\, friendly\, active\, no pressure class where everyone is valued and develops both individual and group skills \nBook air space now!
URL:https://www.pulse4life.co.uk/event/stroud-home-ed/2023-02-23/
CATEGORIES:Home Ed
ATTACH;FMTTYPE=image/jpeg:https://www.pulse4life.co.uk/wp-content/uploads/2018/04/home-ed-4.jpg
ORGANIZER;CN="Stuart Dunn":MAILTO:stuart@pulse4life.co.uk
END:VEVENT
BEGIN:VEVENT
DTSTART;TZID=Europe/London:20230216T110000
DTEND;TZID=Europe/London:20230216T123000
DTSTAMP:20260420T022738
CREATED:20211215T171641Z
LAST-MODIFIED:20230611T183011Z
UID:10001813-1676545200-1676550600@www.pulse4life.co.uk
SUMMARY:HOME ED. SPORTS Stroud
DESCRIPTION:Multi-Sports sessions in the park – fun first!\nTag games\, invasion sports\, striking and fielding\, athletics are all part of these inclusive sessions. \nA small\, friendly\, active\, no pressure class where everyone is valued and develops both individual and group skills \nBook air space now!
URL:https://www.pulse4life.co.uk/event/stroud-home-ed/2023-02-16/
CATEGORIES:Home Ed
ATTACH;FMTTYPE=image/jpeg:https://www.pulse4life.co.uk/wp-content/uploads/2018/04/home-ed-4.jpg
ORGANIZER;CN="Stuart Dunn":MAILTO:stuart@pulse4life.co.uk
END:VEVENT
BEGIN:VEVENT
DTSTART;TZID=Europe/London:20230209T110000
DTEND;TZID=Europe/London:20230209T123000
DTSTAMP:20260420T022738
CREATED:20211215T171641Z
LAST-MODIFIED:20230611T183011Z
UID:10001712-1675940400-1675945800@www.pulse4life.co.uk
SUMMARY:HOME ED. SPORTS Stroud
DESCRIPTION:Multi-Sports sessions in the park – fun first!\nTag games\, invasion sports\, striking and fielding\, athletics are all part of these inclusive sessions. \nA small\, friendly\, active\, no pressure class where everyone is valued and develops both individual and group skills \nBook air space now!
URL:https://www.pulse4life.co.uk/event/stroud-home-ed/2023-02-09/
CATEGORIES:Home Ed
ATTACH;FMTTYPE=image/jpeg:https://www.pulse4life.co.uk/wp-content/uploads/2018/04/home-ed-4.jpg
ORGANIZER;CN="Stuart Dunn":MAILTO:stuart@pulse4life.co.uk
END:VEVENT
BEGIN:VEVENT
DTSTART;TZID=Europe/London:20230202T110000
DTEND;TZID=Europe/London:20230202T123000
DTSTAMP:20260420T022738
CREATED:20211215T171641Z
LAST-MODIFIED:20230611T183011Z
UID:10001711-1675335600-1675341000@www.pulse4life.co.uk
SUMMARY:HOME ED. SPORTS Stroud
DESCRIPTION:Multi-Sports sessions in the park – fun first!\nTag games\, invasion sports\, striking and fielding\, athletics are all part of these inclusive sessions. \nA small\, friendly\, active\, no pressure class where everyone is valued and develops both individual and group skills \nBook air space now!
URL:https://www.pulse4life.co.uk/event/stroud-home-ed/2023-02-02/
CATEGORIES:Home Ed
ATTACH;FMTTYPE=image/jpeg:https://www.pulse4life.co.uk/wp-content/uploads/2018/04/home-ed-4.jpg
ORGANIZER;CN="Stuart Dunn":MAILTO:stuart@pulse4life.co.uk
END:VEVENT
BEGIN:VEVENT
DTSTART;TZID=Europe/London:20230126T110000
DTEND;TZID=Europe/London:20230126T123000
DTSTAMP:20260420T022738
CREATED:20211215T171641Z
LAST-MODIFIED:20230611T183011Z
UID:10001710-1674730800-1674736200@www.pulse4life.co.uk
SUMMARY:HOME ED. SPORTS Stroud
DESCRIPTION:Multi-Sports sessions in the park – fun first!\nTag games\, invasion sports\, striking and fielding\, athletics are all part of these inclusive sessions. \nA small\, friendly\, active\, no pressure class where everyone is valued and develops both individual and group skills \nBook air space now!
URL:https://www.pulse4life.co.uk/event/stroud-home-ed/2023-01-26/
CATEGORIES:Home Ed
ATTACH;FMTTYPE=image/jpeg:https://www.pulse4life.co.uk/wp-content/uploads/2018/04/home-ed-4.jpg
ORGANIZER;CN="Stuart Dunn":MAILTO:stuart@pulse4life.co.uk
END:VEVENT
BEGIN:VEVENT
DTSTART;TZID=Europe/London:20230119T110000
DTEND;TZID=Europe/London:20230119T123000
DTSTAMP:20260420T022738
CREATED:20211215T171641Z
LAST-MODIFIED:20230611T183011Z
UID:10001709-1674126000-1674131400@www.pulse4life.co.uk
SUMMARY:HOME ED. SPORTS Stroud
DESCRIPTION:Multi-Sports sessions in the park – fun first!\nTag games\, invasion sports\, striking and fielding\, athletics are all part of these inclusive sessions. \nA small\, friendly\, active\, no pressure class where everyone is valued and develops both individual and group skills \nBook air space now!
URL:https://www.pulse4life.co.uk/event/stroud-home-ed/2023-01-19/
CATEGORIES:Home Ed
ATTACH;FMTTYPE=image/jpeg:https://www.pulse4life.co.uk/wp-content/uploads/2018/04/home-ed-4.jpg
ORGANIZER;CN="Stuart Dunn":MAILTO:stuart@pulse4life.co.uk
END:VEVENT
BEGIN:VEVENT
DTSTART;TZID=Europe/London:20230112T110000
DTEND;TZID=Europe/London:20230112T123000
DTSTAMP:20260420T022738
CREATED:20211215T171641Z
LAST-MODIFIED:20230611T183011Z
UID:10001708-1673521200-1673526600@www.pulse4life.co.uk
SUMMARY:HOME ED. SPORTS Stroud
DESCRIPTION:Multi-Sports sessions in the park – fun first!\nTag games\, invasion sports\, striking and fielding\, athletics are all part of these inclusive sessions. \nA small\, friendly\, active\, no pressure class where everyone is valued and develops both individual and group skills \nBook air space now!
URL:https://www.pulse4life.co.uk/event/stroud-home-ed/2023-01-12/
CATEGORIES:Home Ed
ATTACH;FMTTYPE=image/jpeg:https://www.pulse4life.co.uk/wp-content/uploads/2018/04/home-ed-4.jpg
ORGANIZER;CN="Stuart Dunn":MAILTO:stuart@pulse4life.co.uk
END:VEVENT
BEGIN:VEVENT
DTSTART;TZID=Europe/London:20230105T110000
DTEND;TZID=Europe/London:20230105T123000
DTSTAMP:20260420T022738
CREATED:20211215T171641Z
LAST-MODIFIED:20230611T183011Z
UID:10001707-1672916400-1672921800@www.pulse4life.co.uk
SUMMARY:HOME ED. SPORTS Stroud
DESCRIPTION:Multi-Sports sessions in the park – fun first!\nTag games\, invasion sports\, striking and fielding\, athletics are all part of these inclusive sessions. \nA small\, friendly\, active\, no pressure class where everyone is valued and develops both individual and group skills \nBook air space now!
URL:https://www.pulse4life.co.uk/event/stroud-home-ed/2023-01-05/
CATEGORIES:Home Ed
ATTACH;FMTTYPE=image/jpeg:https://www.pulse4life.co.uk/wp-content/uploads/2018/04/home-ed-4.jpg
ORGANIZER;CN="Stuart Dunn":MAILTO:stuart@pulse4life.co.uk
END:VEVENT
BEGIN:VEVENT
DTSTART;TZID=Europe/London:20221229T110000
DTEND;TZID=Europe/London:20221229T123000
DTSTAMP:20260420T022738
CREATED:20211215T171641Z
LAST-MODIFIED:20230611T183011Z
UID:10001849-1672311600-1672317000@www.pulse4life.co.uk
SUMMARY:HOME ED. SPORTS Stroud
DESCRIPTION:Multi-Sports sessions in the park – fun first!\nTag games\, invasion sports\, striking and fielding\, athletics are all part of these inclusive sessions. \nA small\, friendly\, active\, no pressure class where everyone is valued and develops both individual and group skills \nBook air space now!
URL:https://www.pulse4life.co.uk/event/stroud-home-ed/2022-12-29/
CATEGORIES:Home Ed
ATTACH;FMTTYPE=image/jpeg:https://www.pulse4life.co.uk/wp-content/uploads/2018/04/home-ed-4.jpg
ORGANIZER;CN="Stuart Dunn":MAILTO:stuart@pulse4life.co.uk
END:VEVENT
BEGIN:VEVENT
DTSTART;TZID=Europe/London:20221222T110000
DTEND;TZID=Europe/London:20221222T123000
DTSTAMP:20260420T022738
CREATED:20211215T171641Z
LAST-MODIFIED:20230611T183011Z
UID:10001848-1671706800-1671712200@www.pulse4life.co.uk
SUMMARY:HOME ED. SPORTS Stroud
DESCRIPTION:Multi-Sports sessions in the park – fun first!\nTag games\, invasion sports\, striking and fielding\, athletics are all part of these inclusive sessions. \nA small\, friendly\, active\, no pressure class where everyone is valued and develops both individual and group skills \nBook air space now!
URL:https://www.pulse4life.co.uk/event/stroud-home-ed/2022-12-22/
CATEGORIES:Home Ed
ATTACH;FMTTYPE=image/jpeg:https://www.pulse4life.co.uk/wp-content/uploads/2018/04/home-ed-4.jpg
ORGANIZER;CN="Stuart Dunn":MAILTO:stuart@pulse4life.co.uk
END:VEVENT
BEGIN:VEVENT
DTSTART;TZID=Europe/London:20221215T110000
DTEND;TZID=Europe/London:20221215T123000
DTSTAMP:20260420T022738
CREATED:20211215T171641Z
LAST-MODIFIED:20230611T183011Z
UID:10001676-1671102000-1671107400@www.pulse4life.co.uk
SUMMARY:HOME ED. SPORTS Stroud
DESCRIPTION:Multi-Sports sessions in the park – fun first!\nTag games\, invasion sports\, striking and fielding\, athletics are all part of these inclusive sessions. \nA small\, friendly\, active\, no pressure class where everyone is valued and develops both individual and group skills \nBook air space now!
URL:https://www.pulse4life.co.uk/event/stroud-home-ed/2022-12-15/
CATEGORIES:Home Ed
ATTACH;FMTTYPE=image/jpeg:https://www.pulse4life.co.uk/wp-content/uploads/2018/04/home-ed-4.jpg
ORGANIZER;CN="Stuart Dunn":MAILTO:stuart@pulse4life.co.uk
END:VEVENT
BEGIN:VEVENT
DTSTART;TZID=Europe/London:20221208T110000
DTEND;TZID=Europe/London:20221208T123000
DTSTAMP:20260420T022738
CREATED:20211215T171641Z
LAST-MODIFIED:20230611T183011Z
UID:10001675-1670497200-1670502600@www.pulse4life.co.uk
SUMMARY:HOME ED. SPORTS Stroud
DESCRIPTION:Multi-Sports sessions in the park – fun first!\nTag games\, invasion sports\, striking and fielding\, athletics are all part of these inclusive sessions. \nA small\, friendly\, active\, no pressure class where everyone is valued and develops both individual and group skills \nBook air space now!
URL:https://www.pulse4life.co.uk/event/stroud-home-ed/2022-12-08/
CATEGORIES:Home Ed
ATTACH;FMTTYPE=image/jpeg:https://www.pulse4life.co.uk/wp-content/uploads/2018/04/home-ed-4.jpg
ORGANIZER;CN="Stuart Dunn":MAILTO:stuart@pulse4life.co.uk
END:VEVENT
BEGIN:VEVENT
DTSTART;TZID=Europe/London:20221201T110000
DTEND;TZID=Europe/London:20221201T123000
DTSTAMP:20260420T022738
CREATED:20211215T171641Z
LAST-MODIFIED:20230611T183011Z
UID:10001674-1669892400-1669897800@www.pulse4life.co.uk
SUMMARY:HOME ED. SPORTS Stroud
DESCRIPTION:Multi-Sports sessions in the park – fun first!\nTag games\, invasion sports\, striking and fielding\, athletics are all part of these inclusive sessions. \nA small\, friendly\, active\, no pressure class where everyone is valued and develops both individual and group skills \nBook air space now!
URL:https://www.pulse4life.co.uk/event/stroud-home-ed/2022-12-01/
CATEGORIES:Home Ed
ATTACH;FMTTYPE=image/jpeg:https://www.pulse4life.co.uk/wp-content/uploads/2018/04/home-ed-4.jpg
ORGANIZER;CN="Stuart Dunn":MAILTO:stuart@pulse4life.co.uk
END:VEVENT
BEGIN:VEVENT
DTSTART;TZID=Europe/London:20221124T110000
DTEND;TZID=Europe/London:20221124T123000
DTSTAMP:20260420T022738
CREATED:20211215T171641Z
LAST-MODIFIED:20230611T183011Z
UID:10001673-1669287600-1669293000@www.pulse4life.co.uk
SUMMARY:HOME ED. SPORTS Stroud
DESCRIPTION:Multi-Sports sessions in the park – fun first!\nTag games\, invasion sports\, striking and fielding\, athletics are all part of these inclusive sessions. \nA small\, friendly\, active\, no pressure class where everyone is valued and develops both individual and group skills \nBook air space now!
URL:https://www.pulse4life.co.uk/event/stroud-home-ed/2022-11-24/
CATEGORIES:Home Ed
ATTACH;FMTTYPE=image/jpeg:https://www.pulse4life.co.uk/wp-content/uploads/2018/04/home-ed-4.jpg
ORGANIZER;CN="Stuart Dunn":MAILTO:stuart@pulse4life.co.uk
END:VEVENT
BEGIN:VEVENT
DTSTART;TZID=Europe/London:20221117T110000
DTEND;TZID=Europe/London:20221117T123000
DTSTAMP:20260420T022738
CREATED:20211215T171641Z
LAST-MODIFIED:20230611T183011Z
UID:10001672-1668682800-1668688200@www.pulse4life.co.uk
SUMMARY:HOME ED. SPORTS Stroud
DESCRIPTION:Multi-Sports sessions in the park – fun first!\nTag games\, invasion sports\, striking and fielding\, athletics are all part of these inclusive sessions. \nA small\, friendly\, active\, no pressure class where everyone is valued and develops both individual and group skills \nBook air space now!
URL:https://www.pulse4life.co.uk/event/stroud-home-ed/2022-11-17/
CATEGORIES:Home Ed
ATTACH;FMTTYPE=image/jpeg:https://www.pulse4life.co.uk/wp-content/uploads/2018/04/home-ed-4.jpg
ORGANIZER;CN="Stuart Dunn":MAILTO:stuart@pulse4life.co.uk
END:VEVENT
BEGIN:VEVENT
DTSTART;TZID=Europe/London:20221110T110000
DTEND;TZID=Europe/London:20221110T123000
DTSTAMP:20260420T022738
CREATED:20211215T171641Z
LAST-MODIFIED:20230611T183011Z
UID:10001391-1668078000-1668083400@www.pulse4life.co.uk
SUMMARY:HOME ED. SPORTS Stroud
DESCRIPTION:Multi-Sports sessions in the park – fun first!\nTag games\, invasion sports\, striking and fielding\, athletics are all part of these inclusive sessions. \nA small\, friendly\, active\, no pressure class where everyone is valued and develops both individual and group skills \nBook air space now!
URL:https://www.pulse4life.co.uk/event/stroud-home-ed/2022-11-10/
CATEGORIES:Home Ed
ATTACH;FMTTYPE=image/jpeg:https://www.pulse4life.co.uk/wp-content/uploads/2018/04/home-ed-4.jpg
ORGANIZER;CN="Stuart Dunn":MAILTO:stuart@pulse4life.co.uk
END:VEVENT
BEGIN:VEVENT
DTSTART;TZID=Europe/London:20221103T110000
DTEND;TZID=Europe/London:20221103T123000
DTSTAMP:20260420T022738
CREATED:20211215T171641Z
LAST-MODIFIED:20230611T183011Z
UID:10001390-1667473200-1667478600@www.pulse4life.co.uk
SUMMARY:HOME ED. SPORTS Stroud
DESCRIPTION:Multi-Sports sessions in the park – fun first!\nTag games\, invasion sports\, striking and fielding\, athletics are all part of these inclusive sessions. \nA small\, friendly\, active\, no pressure class where everyone is valued and develops both individual and group skills \nBook air space now!
URL:https://www.pulse4life.co.uk/event/stroud-home-ed/2022-11-03/
CATEGORIES:Home Ed
ATTACH;FMTTYPE=image/jpeg:https://www.pulse4life.co.uk/wp-content/uploads/2018/04/home-ed-4.jpg
ORGANIZER;CN="Stuart Dunn":MAILTO:stuart@pulse4life.co.uk
END:VEVENT
BEGIN:VEVENT
DTSTART;TZID=Europe/London:20221027T110000
DTEND;TZID=Europe/London:20221027T123000
DTSTAMP:20260420T022738
CREATED:20211215T171641Z
LAST-MODIFIED:20230611T183011Z
UID:10001389-1666868400-1666873800@www.pulse4life.co.uk
SUMMARY:HOME ED. SPORTS Stroud
DESCRIPTION:Multi-Sports sessions in the park – fun first!\nTag games\, invasion sports\, striking and fielding\, athletics are all part of these inclusive sessions. \nA small\, friendly\, active\, no pressure class where everyone is valued and develops both individual and group skills \nBook air space now!
URL:https://www.pulse4life.co.uk/event/stroud-home-ed/2022-10-27/
CATEGORIES:Home Ed
ATTACH;FMTTYPE=image/jpeg:https://www.pulse4life.co.uk/wp-content/uploads/2018/04/home-ed-4.jpg
ORGANIZER;CN="Stuart Dunn":MAILTO:stuart@pulse4life.co.uk
END:VEVENT
BEGIN:VEVENT
DTSTART;TZID=Europe/London:20221020T110000
DTEND;TZID=Europe/London:20221020T123000
DTSTAMP:20260420T022738
CREATED:20211215T171641Z
LAST-MODIFIED:20230611T183011Z
UID:10001388-1666263600-1666269000@www.pulse4life.co.uk
SUMMARY:HOME ED. SPORTS Stroud
DESCRIPTION:Multi-Sports sessions in the park – fun first!\nTag games\, invasion sports\, striking and fielding\, athletics are all part of these inclusive sessions. \nA small\, friendly\, active\, no pressure class where everyone is valued and develops both individual and group skills \nBook air space now!
URL:https://www.pulse4life.co.uk/event/stroud-home-ed/2022-10-20/
CATEGORIES:Home Ed
ATTACH;FMTTYPE=image/jpeg:https://www.pulse4life.co.uk/wp-content/uploads/2018/04/home-ed-4.jpg
ORGANIZER;CN="Stuart Dunn":MAILTO:stuart@pulse4life.co.uk
END:VEVENT
BEGIN:VEVENT
DTSTART;TZID=Europe/London:20221013T110000
DTEND;TZID=Europe/London:20221013T123000
DTSTAMP:20260420T022738
CREATED:20211215T171641Z
LAST-MODIFIED:20230611T183011Z
UID:10001387-1665658800-1665664200@www.pulse4life.co.uk
SUMMARY:HOME ED. SPORTS Stroud
DESCRIPTION:Multi-Sports sessions in the park – fun first!\nTag games\, invasion sports\, striking and fielding\, athletics are all part of these inclusive sessions. \nA small\, friendly\, active\, no pressure class where everyone is valued and develops both individual and group skills \nBook air space now!
URL:https://www.pulse4life.co.uk/event/stroud-home-ed/2022-10-13/
CATEGORIES:Home Ed
ATTACH;FMTTYPE=image/jpeg:https://www.pulse4life.co.uk/wp-content/uploads/2018/04/home-ed-4.jpg
ORGANIZER;CN="Stuart Dunn":MAILTO:stuart@pulse4life.co.uk
END:VEVENT
BEGIN:VEVENT
DTSTART;TZID=Europe/London:20221006T110000
DTEND;TZID=Europe/London:20221006T123000
DTSTAMP:20260420T022738
CREATED:20211215T171641Z
LAST-MODIFIED:20230611T183011Z
UID:10001375-1665054000-1665059400@www.pulse4life.co.uk
SUMMARY:HOME ED. SPORTS Stroud
DESCRIPTION:Multi-Sports sessions in the park – fun first!\nTag games\, invasion sports\, striking and fielding\, athletics are all part of these inclusive sessions. \nA small\, friendly\, active\, no pressure class where everyone is valued and develops both individual and group skills \nBook air space now!
URL:https://www.pulse4life.co.uk/event/stroud-home-ed/2022-10-06/
CATEGORIES:Home Ed
ATTACH;FMTTYPE=image/jpeg:https://www.pulse4life.co.uk/wp-content/uploads/2018/04/home-ed-4.jpg
ORGANIZER;CN="Stuart Dunn":MAILTO:stuart@pulse4life.co.uk
END:VEVENT
BEGIN:VEVENT
DTSTART;TZID=Europe/London:20220929T110000
DTEND;TZID=Europe/London:20220929T123000
DTSTAMP:20260420T022738
CREATED:20211215T171641Z
LAST-MODIFIED:20230611T183011Z
UID:10001374-1664449200-1664454600@www.pulse4life.co.uk
SUMMARY:HOME ED. SPORTS Stroud
DESCRIPTION:Multi-Sports sessions in the park – fun first!\nTag games\, invasion sports\, striking and fielding\, athletics are all part of these inclusive sessions. \nA small\, friendly\, active\, no pressure class where everyone is valued and develops both individual and group skills \nBook air space now!
URL:https://www.pulse4life.co.uk/event/stroud-home-ed/2022-09-29/
CATEGORIES:Home Ed
ATTACH;FMTTYPE=image/jpeg:https://www.pulse4life.co.uk/wp-content/uploads/2018/04/home-ed-4.jpg
ORGANIZER;CN="Stuart Dunn":MAILTO:stuart@pulse4life.co.uk
END:VEVENT
BEGIN:VEVENT
DTSTART;TZID=Europe/London:20220922T110000
DTEND;TZID=Europe/London:20220922T123000
DTSTAMP:20260420T022738
CREATED:20211215T171641Z
LAST-MODIFIED:20230611T183011Z
UID:10001373-1663844400-1663849800@www.pulse4life.co.uk
SUMMARY:HOME ED. SPORTS Stroud
DESCRIPTION:Multi-Sports sessions in the park – fun first!\nTag games\, invasion sports\, striking and fielding\, athletics are all part of these inclusive sessions. \nA small\, friendly\, active\, no pressure class where everyone is valued and develops both individual and group skills \nBook air space now!
URL:https://www.pulse4life.co.uk/event/stroud-home-ed/2022-09-22/
CATEGORIES:Home Ed
ATTACH;FMTTYPE=image/jpeg:https://www.pulse4life.co.uk/wp-content/uploads/2018/04/home-ed-4.jpg
ORGANIZER;CN="Stuart Dunn":MAILTO:stuart@pulse4life.co.uk
END:VEVENT
BEGIN:VEVENT
DTSTART;TZID=Europe/London:20220915T110000
DTEND;TZID=Europe/London:20220915T123000
DTSTAMP:20260420T022738
CREATED:20211215T171641Z
LAST-MODIFIED:20230611T183011Z
UID:10001372-1663239600-1663245000@www.pulse4life.co.uk
SUMMARY:HOME ED. SPORTS Stroud
DESCRIPTION:Multi-Sports sessions in the park – fun first!\nTag games\, invasion sports\, striking and fielding\, athletics are all part of these inclusive sessions. \nA small\, friendly\, active\, no pressure class where everyone is valued and develops both individual and group skills \nBook air space now!
URL:https://www.pulse4life.co.uk/event/stroud-home-ed/2022-09-15/
CATEGORIES:Home Ed
ATTACH;FMTTYPE=image/jpeg:https://www.pulse4life.co.uk/wp-content/uploads/2018/04/home-ed-4.jpg
ORGANIZER;CN="Stuart Dunn":MAILTO:stuart@pulse4life.co.uk
END:VEVENT
BEGIN:VEVENT
DTSTART;TZID=Europe/London:20220908T110000
DTEND;TZID=Europe/London:20220908T123000
DTSTAMP:20260420T022738
CREATED:20211215T171641Z
LAST-MODIFIED:20230611T183011Z
UID:10001371-1662634800-1662640200@www.pulse4life.co.uk
SUMMARY:HOME ED. SPORTS Stroud
DESCRIPTION:Multi-Sports sessions in the park – fun first!\nTag games\, invasion sports\, striking and fielding\, athletics are all part of these inclusive sessions. \nA small\, friendly\, active\, no pressure class where everyone is valued and develops both individual and group skills \nBook air space now!
URL:https://www.pulse4life.co.uk/event/stroud-home-ed/2022-09-08/
CATEGORIES:Home Ed
ATTACH;FMTTYPE=image/jpeg:https://www.pulse4life.co.uk/wp-content/uploads/2018/04/home-ed-4.jpg
ORGANIZER;CN="Stuart Dunn":MAILTO:stuart@pulse4life.co.uk
END:VEVENT
BEGIN:VEVENT
DTSTART;TZID=Europe/London:20220901T110000
DTEND;TZID=Europe/London:20220901T123000
DTSTAMP:20260420T022738
CREATED:20211215T171641Z
LAST-MODIFIED:20230611T183011Z
UID:10001370-1662030000-1662035400@www.pulse4life.co.uk
SUMMARY:HOME ED. SPORTS Stroud
DESCRIPTION:Multi-Sports sessions in the park – fun first!\nTag games\, invasion sports\, striking and fielding\, athletics are all part of these inclusive sessions. \nA small\, friendly\, active\, no pressure class where everyone is valued and develops both individual and group skills \nBook air space now!
URL:https://www.pulse4life.co.uk/event/stroud-home-ed/2022-09-01/
CATEGORIES:Home Ed
ATTACH;FMTTYPE=image/jpeg:https://www.pulse4life.co.uk/wp-content/uploads/2018/04/home-ed-4.jpg
ORGANIZER;CN="Stuart Dunn":MAILTO:stuart@pulse4life.co.uk
END:VEVENT
BEGIN:VEVENT
DTSTART;TZID=Europe/London:20220825T110000
DTEND;TZID=Europe/London:20220825T123000
DTSTAMP:20260420T022738
CREATED:20211215T171641Z
LAST-MODIFIED:20230611T183011Z
UID:10001369-1661425200-1661430600@www.pulse4life.co.uk
SUMMARY:HOME ED. SPORTS Stroud
DESCRIPTION:Multi-Sports sessions in the park – fun first!\nTag games\, invasion sports\, striking and fielding\, athletics are all part of these inclusive sessions. \nA small\, friendly\, active\, no pressure class where everyone is valued and develops both individual and group skills \nBook air space now!
URL:https://www.pulse4life.co.uk/event/stroud-home-ed/2022-08-25/
CATEGORIES:Home Ed
ATTACH;FMTTYPE=image/jpeg:https://www.pulse4life.co.uk/wp-content/uploads/2018/04/home-ed-4.jpg
ORGANIZER;CN="Stuart Dunn":MAILTO:stuart@pulse4life.co.uk
END:VEVENT
BEGIN:VEVENT
DTSTART;TZID=Europe/London:20220818T110000
DTEND;TZID=Europe/London:20220818T123000
DTSTAMP:20260420T022738
CREATED:20211215T171641Z
LAST-MODIFIED:20230611T183011Z
UID:10001368-1660820400-1660825800@www.pulse4life.co.uk
SUMMARY:HOME ED. SPORTS Stroud
DESCRIPTION:Multi-Sports sessions in the park – fun first!\nTag games\, invasion sports\, striking and fielding\, athletics are all part of these inclusive sessions. \nA small\, friendly\, active\, no pressure class where everyone is valued and develops both individual and group skills \nBook air space now!
URL:https://www.pulse4life.co.uk/event/stroud-home-ed/2022-08-18/
CATEGORIES:Home Ed
ATTACH;FMTTYPE=image/jpeg:https://www.pulse4life.co.uk/wp-content/uploads/2018/04/home-ed-4.jpg
ORGANIZER;CN="Stuart Dunn":MAILTO:stuart@pulse4life.co.uk
END:VEVENT
BEGIN:VEVENT
DTSTART;TZID=Europe/London:20220811T110000
DTEND;TZID=Europe/London:20220811T123000
DTSTAMP:20260420T022738
CREATED:20211215T171641Z
LAST-MODIFIED:20230611T183011Z
UID:10001367-1660215600-1660221000@www.pulse4life.co.uk
SUMMARY:HOME ED. SPORTS Stroud
DESCRIPTION:Multi-Sports sessions in the park – fun first!\nTag games\, invasion sports\, striking and fielding\, athletics are all part of these inclusive sessions. \nA small\, friendly\, active\, no pressure class where everyone is valued and develops both individual and group skills \nBook air space now!
URL:https://www.pulse4life.co.uk/event/stroud-home-ed/2022-08-11/
CATEGORIES:Home Ed
ATTACH;FMTTYPE=image/jpeg:https://www.pulse4life.co.uk/wp-content/uploads/2018/04/home-ed-4.jpg
ORGANIZER;CN="Stuart Dunn":MAILTO:stuart@pulse4life.co.uk
END:VEVENT
END:VCALENDAR