BEGIN:VCALENDAR
VERSION:2.0
PRODID:-//Pulse4Life - Mind, Body, Rhythm - ECPv6.15.20//NONSGML v1.0//EN
CALSCALE:GREGORIAN
METHOD:PUBLISH
X-ORIGINAL-URL:https://www.pulse4life.co.uk
X-WR-CALDESC:Events for Pulse4Life - Mind, Body, Rhythm
REFRESH-INTERVAL;VALUE=DURATION:PT1H
X-Robots-Tag:noindex
X-PUBLISHED-TTL:PT1H
BEGIN:VTIMEZONE
TZID:Europe/London
BEGIN:DAYLIGHT
TZOFFSETFROM:+0000
TZOFFSETTO:+0100
TZNAME:BST
DTSTART:20180325T010000
END:DAYLIGHT
BEGIN:STANDARD
TZOFFSETFROM:+0100
TZOFFSETTO:+0000
TZNAME:GMT
DTSTART:20181028T010000
END:STANDARD
BEGIN:DAYLIGHT
TZOFFSETFROM:+0000
TZOFFSETTO:+0100
TZNAME:BST
DTSTART:20190331T010000
END:DAYLIGHT
BEGIN:STANDARD
TZOFFSETFROM:+0100
TZOFFSETTO:+0000
TZNAME:GMT
DTSTART:20191027T010000
END:STANDARD
BEGIN:DAYLIGHT
TZOFFSETFROM:+0000
TZOFFSETTO:+0100
TZNAME:BST
DTSTART:20200329T010000
END:DAYLIGHT
BEGIN:STANDARD
TZOFFSETFROM:+0100
TZOFFSETTO:+0000
TZNAME:GMT
DTSTART:20201025T010000
END:STANDARD
END:VTIMEZONE
BEGIN:VEVENT
DTSTART;TZID=Europe/London:20191120T121500
DTEND;TZID=Europe/London:20191120T133000
DTSTAMP:20260422T185828
CREATED:20190328T211910Z
LAST-MODIFIED:20200224T230743Z
UID:10000914-1574252100-1574256600@www.pulse4life.co.uk
SUMMARY:Stroud Home Ed. Sports
DESCRIPTION:Multi-Sports sessions in the park – fun first!\nTag games\, invasion sports\, striking and fielding\, athletics are all part of these inclusive sessions. \nA small\, friendly\, active\, no pressure class where everyone is valued and develops both individual and group skills. \n£36 (6 wk term) / £8 drop-in. \nBook air space now!
URL:https://www.pulse4life.co.uk/event/stroud-home-ed-sports-2019-10-23/2019-11-20/
LOCATION:Victory Park\, Stroud\, Victory Park\, Stroud\, Gloucestershire\, GL5 4JE\, United Kingdom
CATEGORIES:Home Ed
ATTACH;FMTTYPE=image/jpeg:https://www.pulse4life.co.uk/wp-content/uploads/2018/04/home-ed-4.jpg
ORGANIZER;CN="Stuart Dunn":MAILTO:stuart@pulse4life.co.uk
GEO:51.7433628;-2.2490931
X-APPLE-STRUCTURED-LOCATION;VALUE=URI;X-ADDRESS=Victory Park Stroud Victory Park Stroud Gloucestershire GL5 4JE United Kingdom;X-APPLE-RADIUS=500;X-TITLE=Victory Park:geo:-2.2490931,51.7433628
END:VEVENT
BEGIN:VEVENT
DTSTART;TZID=Europe/London:20191114T104500
DTEND;TZID=Europe/London:20191114T120000
DTSTAMP:20260422T185828
CREATED:20180412T210412Z
LAST-MODIFIED:20200224T230904Z
UID:10000466-1573728300-1573732800@www.pulse4life.co.uk
SUMMARY:Nailsworth Home Ed. Sports
DESCRIPTION:Multi-Sports sessions in the park – fun first!\nTag games\, invasion sports\, striking and fielding\, athletics are all part of these inclusive sessions. \nChildren develop both individual and group skills in the outdoors.\n£36 (6 wk term) / £8 drop-in. \nBook air space now!
URL:https://www.pulse4life.co.uk/event/home-ed-sports-thursday-2019-02-14-2019-02-19-2019-02-21/2019-11-14/
LOCATION:King George V Playing Fields\, King George V Playing Fields\, Nailsworth\, Gloucestershire\, GL6 0HT\, United Kingdom
CATEGORIES:Home Ed
ATTACH;FMTTYPE=image/jpeg:https://www.pulse4life.co.uk/wp-content/uploads/2018/04/home-ed-2.jpg
GEO:51.6928034;-2.2146249
X-APPLE-STRUCTURED-LOCATION;VALUE=URI;X-ADDRESS=King George V Playing Fields King George V Playing Fields Nailsworth Gloucestershire GL6 0HT United Kingdom;X-APPLE-RADIUS=500;X-TITLE=King George V Playing Fields:geo:-2.2146249,51.6928034
END:VEVENT
BEGIN:VEVENT
DTSTART;TZID=Europe/London:20191113T121500
DTEND;TZID=Europe/London:20191113T133000
DTSTAMP:20260422T185828
CREATED:20190328T211910Z
LAST-MODIFIED:20200224T230743Z
UID:10000913-1573647300-1573651800@www.pulse4life.co.uk
SUMMARY:Stroud Home Ed. Sports
DESCRIPTION:Multi-Sports sessions in the park – fun first!\nTag games\, invasion sports\, striking and fielding\, athletics are all part of these inclusive sessions. \nA small\, friendly\, active\, no pressure class where everyone is valued and develops both individual and group skills. \n£36 (6 wk term) / £8 drop-in. \nBook air space now!
URL:https://www.pulse4life.co.uk/event/stroud-home-ed-sports-2019-10-23/2019-11-13/
LOCATION:Victory Park\, Stroud\, Victory Park\, Stroud\, Gloucestershire\, GL5 4JE\, United Kingdom
CATEGORIES:Home Ed
ATTACH;FMTTYPE=image/jpeg:https://www.pulse4life.co.uk/wp-content/uploads/2018/04/home-ed-4.jpg
ORGANIZER;CN="Stuart Dunn":MAILTO:stuart@pulse4life.co.uk
GEO:51.7433628;-2.2490931
X-APPLE-STRUCTURED-LOCATION;VALUE=URI;X-ADDRESS=Victory Park Stroud Victory Park Stroud Gloucestershire GL5 4JE United Kingdom;X-APPLE-RADIUS=500;X-TITLE=Victory Park:geo:-2.2490931,51.7433628
END:VEVENT
BEGIN:VEVENT
DTSTART;TZID=Europe/London:20191107T104500
DTEND;TZID=Europe/London:20191107T120000
DTSTAMP:20260422T185828
CREATED:20180412T210412Z
LAST-MODIFIED:20200224T230904Z
UID:10000465-1573123500-1573128000@www.pulse4life.co.uk
SUMMARY:Nailsworth Home Ed. Sports
DESCRIPTION:Multi-Sports sessions in the park – fun first!\nTag games\, invasion sports\, striking and fielding\, athletics are all part of these inclusive sessions. \nChildren develop both individual and group skills in the outdoors.\n£36 (6 wk term) / £8 drop-in. \nBook air space now!
URL:https://www.pulse4life.co.uk/event/home-ed-sports-thursday-2019-02-14-2019-02-19-2019-02-21/2019-11-07/
LOCATION:King George V Playing Fields\, King George V Playing Fields\, Nailsworth\, Gloucestershire\, GL6 0HT\, United Kingdom
CATEGORIES:Home Ed
ATTACH;FMTTYPE=image/jpeg:https://www.pulse4life.co.uk/wp-content/uploads/2018/04/home-ed-2.jpg
GEO:51.6928034;-2.2146249
X-APPLE-STRUCTURED-LOCATION;VALUE=URI;X-ADDRESS=King George V Playing Fields King George V Playing Fields Nailsworth Gloucestershire GL6 0HT United Kingdom;X-APPLE-RADIUS=500;X-TITLE=King George V Playing Fields:geo:-2.2146249,51.6928034
END:VEVENT
BEGIN:VEVENT
DTSTART;TZID=Europe/London:20191106T121500
DTEND;TZID=Europe/London:20191106T133000
DTSTAMP:20260422T185828
CREATED:20190328T211910Z
LAST-MODIFIED:20200224T230743Z
UID:10000912-1573042500-1573047000@www.pulse4life.co.uk
SUMMARY:Stroud Home Ed. Sports
DESCRIPTION:Multi-Sports sessions in the park – fun first!\nTag games\, invasion sports\, striking and fielding\, athletics are all part of these inclusive sessions. \nA small\, friendly\, active\, no pressure class where everyone is valued and develops both individual and group skills. \n£36 (6 wk term) / £8 drop-in. \nBook air space now!
URL:https://www.pulse4life.co.uk/event/stroud-home-ed-sports-2019-10-23/2019-11-06/
LOCATION:Victory Park\, Stroud\, Victory Park\, Stroud\, Gloucestershire\, GL5 4JE\, United Kingdom
CATEGORIES:Home Ed
ATTACH;FMTTYPE=image/jpeg:https://www.pulse4life.co.uk/wp-content/uploads/2018/04/home-ed-4.jpg
ORGANIZER;CN="Stuart Dunn":MAILTO:stuart@pulse4life.co.uk
GEO:51.7433628;-2.2490931
X-APPLE-STRUCTURED-LOCATION;VALUE=URI;X-ADDRESS=Victory Park Stroud Victory Park Stroud Gloucestershire GL5 4JE United Kingdom;X-APPLE-RADIUS=500;X-TITLE=Victory Park:geo:-2.2490931,51.7433628
END:VEVENT
BEGIN:VEVENT
DTSTART;TZID=Europe/London:20191031T104500
DTEND;TZID=Europe/London:20191031T120000
DTSTAMP:20260422T185828
CREATED:20180412T210412Z
LAST-MODIFIED:20200224T230904Z
UID:10000464-1572518700-1572523200@www.pulse4life.co.uk
SUMMARY:Nailsworth Home Ed. Sports
DESCRIPTION:Multi-Sports sessions in the park – fun first!\nTag games\, invasion sports\, striking and fielding\, athletics are all part of these inclusive sessions. \nChildren develop both individual and group skills in the outdoors.\n£36 (6 wk term) / £8 drop-in. \nBook air space now!
URL:https://www.pulse4life.co.uk/event/home-ed-sports-thursday-2019-02-14-2019-02-19-2019-02-21/2019-10-31/
LOCATION:King George V Playing Fields\, King George V Playing Fields\, Nailsworth\, Gloucestershire\, GL6 0HT\, United Kingdom
CATEGORIES:Home Ed
ATTACH;FMTTYPE=image/jpeg:https://www.pulse4life.co.uk/wp-content/uploads/2018/04/home-ed-2.jpg
GEO:51.6928034;-2.2146249
X-APPLE-STRUCTURED-LOCATION;VALUE=URI;X-ADDRESS=King George V Playing Fields King George V Playing Fields Nailsworth Gloucestershire GL6 0HT United Kingdom;X-APPLE-RADIUS=500;X-TITLE=King George V Playing Fields:geo:-2.2146249,51.6928034
END:VEVENT
BEGIN:VEVENT
DTSTART;TZID=Europe/London:20191030T121500
DTEND;TZID=Europe/London:20191030T133000
DTSTAMP:20260422T185828
CREATED:20190328T211910Z
LAST-MODIFIED:20200224T230743Z
UID:10000911-1572437700-1572442200@www.pulse4life.co.uk
SUMMARY:Stroud Home Ed. Sports
DESCRIPTION:Multi-Sports sessions in the park – fun first!\nTag games\, invasion sports\, striking and fielding\, athletics are all part of these inclusive sessions. \nA small\, friendly\, active\, no pressure class where everyone is valued and develops both individual and group skills. \n£36 (6 wk term) / £8 drop-in. \nBook air space now!
URL:https://www.pulse4life.co.uk/event/stroud-home-ed-sports-2019-10-23/2019-10-30/
LOCATION:Victory Park\, Stroud\, Victory Park\, Stroud\, Gloucestershire\, GL5 4JE\, United Kingdom
CATEGORIES:Home Ed
ATTACH;FMTTYPE=image/jpeg:https://www.pulse4life.co.uk/wp-content/uploads/2018/04/home-ed-4.jpg
ORGANIZER;CN="Stuart Dunn":MAILTO:stuart@pulse4life.co.uk
GEO:51.7433628;-2.2490931
X-APPLE-STRUCTURED-LOCATION;VALUE=URI;X-ADDRESS=Victory Park Stroud Victory Park Stroud Gloucestershire GL5 4JE United Kingdom;X-APPLE-RADIUS=500;X-TITLE=Victory Park:geo:-2.2490931,51.7433628
END:VEVENT
BEGIN:VEVENT
DTSTART;TZID=Europe/London:20191024T104500
DTEND;TZID=Europe/London:20191024T120000
DTSTAMP:20260422T185828
CREATED:20180412T210412Z
LAST-MODIFIED:20200224T230904Z
UID:10000463-1571913900-1571918400@www.pulse4life.co.uk
SUMMARY:Nailsworth Home Ed. Sports
DESCRIPTION:Multi-Sports sessions in the park – fun first!\nTag games\, invasion sports\, striking and fielding\, athletics are all part of these inclusive sessions. \nChildren develop both individual and group skills in the outdoors.\n£36 (6 wk term) / £8 drop-in. \nBook air space now!
URL:https://www.pulse4life.co.uk/event/home-ed-sports-thursday-2019-02-14-2019-02-19-2019-02-21/2019-10-24/
LOCATION:King George V Playing Fields\, King George V Playing Fields\, Nailsworth\, Gloucestershire\, GL6 0HT\, United Kingdom
CATEGORIES:Home Ed
ATTACH;FMTTYPE=image/jpeg:https://www.pulse4life.co.uk/wp-content/uploads/2018/04/home-ed-2.jpg
GEO:51.6928034;-2.2146249
X-APPLE-STRUCTURED-LOCATION;VALUE=URI;X-ADDRESS=King George V Playing Fields King George V Playing Fields Nailsworth Gloucestershire GL6 0HT United Kingdom;X-APPLE-RADIUS=500;X-TITLE=King George V Playing Fields:geo:-2.2146249,51.6928034
END:VEVENT
BEGIN:VEVENT
DTSTART;TZID=Europe/London:20191023T121500
DTEND;TZID=Europe/London:20191023T133000
DTSTAMP:20260422T185828
CREATED:20190328T211910Z
LAST-MODIFIED:20200224T230743Z
UID:10000910-1571832900-1571837400@www.pulse4life.co.uk
SUMMARY:Stroud Home Ed. Sports
DESCRIPTION:Multi-Sports sessions in the park – fun first!\nTag games\, invasion sports\, striking and fielding\, athletics are all part of these inclusive sessions. \nA small\, friendly\, active\, no pressure class where everyone is valued and develops both individual and group skills. \n£36 (6 wk term) / £8 drop-in. \nBook air space now!
URL:https://www.pulse4life.co.uk/event/stroud-home-ed-sports-2019-10-23/2019-10-23/
LOCATION:Victory Park\, Stroud\, Victory Park\, Stroud\, Gloucestershire\, GL5 4JE\, United Kingdom
CATEGORIES:Home Ed
ATTACH;FMTTYPE=image/jpeg:https://www.pulse4life.co.uk/wp-content/uploads/2018/04/home-ed-4.jpg
ORGANIZER;CN="Stuart Dunn":MAILTO:stuart@pulse4life.co.uk
GEO:51.7433628;-2.2490931
X-APPLE-STRUCTURED-LOCATION;VALUE=URI;X-ADDRESS=Victory Park Stroud Victory Park Stroud Gloucestershire GL5 4JE United Kingdom;X-APPLE-RADIUS=500;X-TITLE=Victory Park:geo:-2.2490931,51.7433628
END:VEVENT
BEGIN:VEVENT
DTSTART;TZID=Europe/London:20191017T104500
DTEND;TZID=Europe/London:20191017T120000
DTSTAMP:20260422T185828
CREATED:20180412T210412Z
LAST-MODIFIED:20200224T230904Z
UID:10000462-1571309100-1571313600@www.pulse4life.co.uk
SUMMARY:Nailsworth Home Ed. Sports
DESCRIPTION:Multi-Sports sessions in the park – fun first!\nTag games\, invasion sports\, striking and fielding\, athletics are all part of these inclusive sessions. \nChildren develop both individual and group skills in the outdoors.\n£36 (6 wk term) / £8 drop-in. \nBook air space now!
URL:https://www.pulse4life.co.uk/event/home-ed-sports-thursday-2019-02-14-2019-02-19-2019-02-21/2019-10-17/
LOCATION:King George V Playing Fields\, King George V Playing Fields\, Nailsworth\, Gloucestershire\, GL6 0HT\, United Kingdom
CATEGORIES:Home Ed
ATTACH;FMTTYPE=image/jpeg:https://www.pulse4life.co.uk/wp-content/uploads/2018/04/home-ed-2.jpg
GEO:51.6928034;-2.2146249
X-APPLE-STRUCTURED-LOCATION;VALUE=URI;X-ADDRESS=King George V Playing Fields King George V Playing Fields Nailsworth Gloucestershire GL6 0HT United Kingdom;X-APPLE-RADIUS=500;X-TITLE=King George V Playing Fields:geo:-2.2146249,51.6928034
END:VEVENT
BEGIN:VEVENT
DTSTART;TZID=Europe/London:20191010T104500
DTEND;TZID=Europe/London:20191010T120000
DTSTAMP:20260422T185828
CREATED:20180412T210412Z
LAST-MODIFIED:20200224T230904Z
UID:10000461-1570704300-1570708800@www.pulse4life.co.uk
SUMMARY:Nailsworth Home Ed. Sports
DESCRIPTION:Multi-Sports sessions in the park – fun first!\nTag games\, invasion sports\, striking and fielding\, athletics are all part of these inclusive sessions. \nChildren develop both individual and group skills in the outdoors.\n£36 (6 wk term) / £8 drop-in. \nBook air space now!
URL:https://www.pulse4life.co.uk/event/home-ed-sports-thursday-2019-02-14-2019-02-19-2019-02-21/2019-10-10/
LOCATION:King George V Playing Fields\, King George V Playing Fields\, Nailsworth\, Gloucestershire\, GL6 0HT\, United Kingdom
CATEGORIES:Home Ed
ATTACH;FMTTYPE=image/jpeg:https://www.pulse4life.co.uk/wp-content/uploads/2018/04/home-ed-2.jpg
GEO:51.6928034;-2.2146249
X-APPLE-STRUCTURED-LOCATION;VALUE=URI;X-ADDRESS=King George V Playing Fields King George V Playing Fields Nailsworth Gloucestershire GL6 0HT United Kingdom;X-APPLE-RADIUS=500;X-TITLE=King George V Playing Fields:geo:-2.2146249,51.6928034
END:VEVENT
BEGIN:VEVENT
DTSTART;TZID=Europe/London:20191003T104500
DTEND;TZID=Europe/London:20191003T120000
DTSTAMP:20260422T185828
CREATED:20180412T210412Z
LAST-MODIFIED:20200224T230904Z
UID:10000460-1570099500-1570104000@www.pulse4life.co.uk
SUMMARY:Nailsworth Home Ed. Sports
DESCRIPTION:Multi-Sports sessions in the park – fun first!\nTag games\, invasion sports\, striking and fielding\, athletics are all part of these inclusive sessions. \nChildren develop both individual and group skills in the outdoors.\n£36 (6 wk term) / £8 drop-in. \nBook air space now!
URL:https://www.pulse4life.co.uk/event/home-ed-sports-thursday-2019-02-14-2019-02-19-2019-02-21/2019-10-03/
LOCATION:King George V Playing Fields\, King George V Playing Fields\, Nailsworth\, Gloucestershire\, GL6 0HT\, United Kingdom
CATEGORIES:Home Ed
ATTACH;FMTTYPE=image/jpeg:https://www.pulse4life.co.uk/wp-content/uploads/2018/04/home-ed-2.jpg
GEO:51.6928034;-2.2146249
X-APPLE-STRUCTURED-LOCATION;VALUE=URI;X-ADDRESS=King George V Playing Fields King George V Playing Fields Nailsworth Gloucestershire GL6 0HT United Kingdom;X-APPLE-RADIUS=500;X-TITLE=King George V Playing Fields:geo:-2.2146249,51.6928034
END:VEVENT
BEGIN:VEVENT
DTSTART;TZID=Europe/London:20190926T104500
DTEND;TZID=Europe/London:20190926T120000
DTSTAMP:20260422T185828
CREATED:20180412T210412Z
LAST-MODIFIED:20200224T230904Z
UID:10000459-1569494700-1569499200@www.pulse4life.co.uk
SUMMARY:Nailsworth Home Ed. Sports
DESCRIPTION:Multi-Sports sessions in the park – fun first!\nTag games\, invasion sports\, striking and fielding\, athletics are all part of these inclusive sessions. \nChildren develop both individual and group skills in the outdoors.\n£36 (6 wk term) / £8 drop-in. \nBook air space now!
URL:https://www.pulse4life.co.uk/event/home-ed-sports-thursday-2019-02-14-2019-02-19-2019-02-21/2019-09-26/
LOCATION:King George V Playing Fields\, King George V Playing Fields\, Nailsworth\, Gloucestershire\, GL6 0HT\, United Kingdom
CATEGORIES:Home Ed
ATTACH;FMTTYPE=image/jpeg:https://www.pulse4life.co.uk/wp-content/uploads/2018/04/home-ed-2.jpg
GEO:51.6928034;-2.2146249
X-APPLE-STRUCTURED-LOCATION;VALUE=URI;X-ADDRESS=King George V Playing Fields King George V Playing Fields Nailsworth Gloucestershire GL6 0HT United Kingdom;X-APPLE-RADIUS=500;X-TITLE=King George V Playing Fields:geo:-2.2146249,51.6928034
END:VEVENT
BEGIN:VEVENT
DTSTART;TZID=Europe/London:20190919T104500
DTEND;TZID=Europe/London:20190919T120000
DTSTAMP:20260422T185828
CREATED:20180412T210412Z
LAST-MODIFIED:20200224T230904Z
UID:10000458-1568889900-1568894400@www.pulse4life.co.uk
SUMMARY:Nailsworth Home Ed. Sports
DESCRIPTION:Multi-Sports sessions in the park – fun first!\nTag games\, invasion sports\, striking and fielding\, athletics are all part of these inclusive sessions. \nChildren develop both individual and group skills in the outdoors.\n£36 (6 wk term) / £8 drop-in. \nBook air space now!
URL:https://www.pulse4life.co.uk/event/home-ed-sports-thursday-2019-02-14-2019-02-19-2019-02-21/2019-09-19/
LOCATION:King George V Playing Fields\, King George V Playing Fields\, Nailsworth\, Gloucestershire\, GL6 0HT\, United Kingdom
CATEGORIES:Home Ed
ATTACH;FMTTYPE=image/jpeg:https://www.pulse4life.co.uk/wp-content/uploads/2018/04/home-ed-2.jpg
GEO:51.6928034;-2.2146249
X-APPLE-STRUCTURED-LOCATION;VALUE=URI;X-ADDRESS=King George V Playing Fields King George V Playing Fields Nailsworth Gloucestershire GL6 0HT United Kingdom;X-APPLE-RADIUS=500;X-TITLE=King George V Playing Fields:geo:-2.2146249,51.6928034
END:VEVENT
BEGIN:VEVENT
DTSTART;TZID=Europe/London:20190912T104500
DTEND;TZID=Europe/London:20190912T120000
DTSTAMP:20260422T185828
CREATED:20180412T210412Z
LAST-MODIFIED:20200224T230904Z
UID:10000457-1568285100-1568289600@www.pulse4life.co.uk
SUMMARY:Nailsworth Home Ed. Sports
DESCRIPTION:Multi-Sports sessions in the park – fun first!\nTag games\, invasion sports\, striking and fielding\, athletics are all part of these inclusive sessions. \nChildren develop both individual and group skills in the outdoors.\n£36 (6 wk term) / £8 drop-in. \nBook air space now!
URL:https://www.pulse4life.co.uk/event/home-ed-sports-thursday-2019-02-14-2019-02-19-2019-02-21/2019-09-12/
LOCATION:King George V Playing Fields\, King George V Playing Fields\, Nailsworth\, Gloucestershire\, GL6 0HT\, United Kingdom
CATEGORIES:Home Ed
ATTACH;FMTTYPE=image/jpeg:https://www.pulse4life.co.uk/wp-content/uploads/2018/04/home-ed-2.jpg
GEO:51.6928034;-2.2146249
X-APPLE-STRUCTURED-LOCATION;VALUE=URI;X-ADDRESS=King George V Playing Fields King George V Playing Fields Nailsworth Gloucestershire GL6 0HT United Kingdom;X-APPLE-RADIUS=500;X-TITLE=King George V Playing Fields:geo:-2.2146249,51.6928034
END:VEVENT
BEGIN:VEVENT
DTSTART;TZID=Europe/London:20190905T104500
DTEND;TZID=Europe/London:20190905T120000
DTSTAMP:20260422T185828
CREATED:20180412T210412Z
LAST-MODIFIED:20200224T230904Z
UID:10000456-1567680300-1567684800@www.pulse4life.co.uk
SUMMARY:Nailsworth Home Ed. Sports
DESCRIPTION:Multi-Sports sessions in the park – fun first!\nTag games\, invasion sports\, striking and fielding\, athletics are all part of these inclusive sessions. \nChildren develop both individual and group skills in the outdoors.\n£36 (6 wk term) / £8 drop-in. \nBook air space now!
URL:https://www.pulse4life.co.uk/event/home-ed-sports-thursday-2019-02-14-2019-02-19-2019-02-21/2019-09-05/
LOCATION:King George V Playing Fields\, King George V Playing Fields\, Nailsworth\, Gloucestershire\, GL6 0HT\, United Kingdom
CATEGORIES:Home Ed
ATTACH;FMTTYPE=image/jpeg:https://www.pulse4life.co.uk/wp-content/uploads/2018/04/home-ed-2.jpg
GEO:51.6928034;-2.2146249
X-APPLE-STRUCTURED-LOCATION;VALUE=URI;X-ADDRESS=King George V Playing Fields King George V Playing Fields Nailsworth Gloucestershire GL6 0HT United Kingdom;X-APPLE-RADIUS=500;X-TITLE=King George V Playing Fields:geo:-2.2146249,51.6928034
END:VEVENT
BEGIN:VEVENT
DTSTART;TZID=Europe/London:20190904T121500
DTEND;TZID=Europe/London:20190904T133000
DTSTAMP:20260422T185828
CREATED:20190328T211910Z
LAST-MODIFIED:20221018T144247Z
UID:10000487-1567599300-1567603800@www.pulse4life.co.uk
SUMMARY:Stroud Home Ed. Sports
DESCRIPTION:Multi-Sports sessions in the park – fun first!\nTag games\, invasion sports\, striking and fielding\, athletics are all part of these inclusive sessions. \nA small\, friendly\, active\, no pressure class where everyone is valued and develops both individual and group skills. \n£42 (6 wk block) \nBook air space now!
URL:https://www.pulse4life.co.uk/event/stroud-home-ed-sports/
LOCATION:Victory Park\, Stroud\, Victory Park\, Stroud\, Gloucestershire\, GL5 4JE\, United Kingdom
CATEGORIES:Home Ed
ATTACH;FMTTYPE=image/jpeg:https://www.pulse4life.co.uk/wp-content/uploads/2018/04/home-ed-4.jpg
ORGANIZER;CN="Stuart Dunn":MAILTO:stuart@pulse4life.co.uk
GEO:51.7433628;-2.2490931
X-APPLE-STRUCTURED-LOCATION;VALUE=URI;X-ADDRESS=Victory Park Stroud Victory Park Stroud Gloucestershire GL5 4JE United Kingdom;X-APPLE-RADIUS=500;X-TITLE=Victory Park:geo:-2.2490931,51.7433628
END:VEVENT
BEGIN:VEVENT
DTSTART;TZID=Europe/London:20190219T103000
DTEND;TZID=Europe/London:20190219T123000
DTSTAMP:20260422T185828
CREATED:20180412T210412Z
LAST-MODIFIED:20190210T185319Z
UID:10000455-1550572200-1550579400@www.pulse4life.co.uk
SUMMARY:Home Ed Sports
DESCRIPTION:Multi-Sports sessions in the park – fun first!\nTag games\, invasion sports\, striking and fielding\, athletics are all part of these inclusive sessions.\n£30 (6 wk term) / £7 drop-in. \nBook air space now!
URL:https://www.pulse4life.co.uk/event/home-ed-sports-thursday-2019-02-14-2019-02-19/
LOCATION:King George V Playing Fields\, King George V Playing Fields\, Nailsworth\, Gloucestershire\, GL6 0HT\, United Kingdom
CATEGORIES:Home Ed
ATTACH;FMTTYPE=image/jpeg:https://www.pulse4life.co.uk/wp-content/uploads/2018/04/home-ed-2.jpg
GEO:51.6928034;-2.2146249
X-APPLE-STRUCTURED-LOCATION;VALUE=URI;X-ADDRESS=King George V Playing Fields King George V Playing Fields Nailsworth Gloucestershire GL6 0HT United Kingdom;X-APPLE-RADIUS=500;X-TITLE=King George V Playing Fields:geo:-2.2146249,51.6928034
END:VEVENT
BEGIN:VEVENT
DTSTART;TZID=Europe/London:20190214T104500
DTEND;TZID=Europe/London:20190214T120000
DTSTAMP:20260422T185828
CREATED:20180412T210412Z
LAST-MODIFIED:20190210T183734Z
UID:10000394-1550141100-1550145600@www.pulse4life.co.uk
SUMMARY:Home Ed Sports
DESCRIPTION:Multi-Sports sessions in the park – fun first!\nTag games\, invasion sports\, striking and fielding\, athletics are all part of these inclusive sessions.\n£30 (6 wk term) / £7 drop-in. \nBook air space now!
URL:https://www.pulse4life.co.uk/event/home-ed-sports-thursday-2019-02-14/
LOCATION:King George V Playing Fields\, King George V Playing Fields\, Nailsworth\, Gloucestershire\, GL6 0HT\, United Kingdom
CATEGORIES:Home Ed
ATTACH;FMTTYPE=image/jpeg:https://www.pulse4life.co.uk/wp-content/uploads/2018/04/home-ed-2.jpg
GEO:51.6928034;-2.2146249
X-APPLE-STRUCTURED-LOCATION;VALUE=URI;X-ADDRESS=King George V Playing Fields King George V Playing Fields Nailsworth Gloucestershire GL6 0HT United Kingdom;X-APPLE-RADIUS=500;X-TITLE=King George V Playing Fields:geo:-2.2146249,51.6928034
END:VEVENT
END:VCALENDAR