BEGIN:VCALENDAR
VERSION:2.0
PRODID:-//Pulse4Life - Mind, Body, Rhythm - ECPv6.15.20//NONSGML v1.0//EN
CALSCALE:GREGORIAN
METHOD:PUBLISH
X-WR-CALNAME:Pulse4Life - Mind, Body, Rhythm
X-ORIGINAL-URL:https://www.pulse4life.co.uk
X-WR-CALDESC:Events for Pulse4Life - Mind, Body, Rhythm
REFRESH-INTERVAL;VALUE=DURATION:PT1H
X-Robots-Tag:noindex
X-PUBLISHED-TTL:PT1H
BEGIN:VTIMEZONE
TZID:Europe/London
BEGIN:DAYLIGHT
TZOFFSETFROM:+0000
TZOFFSETTO:+0100
TZNAME:BST
DTSTART:20210328T010000
END:DAYLIGHT
BEGIN:STANDARD
TZOFFSETFROM:+0100
TZOFFSETTO:+0000
TZNAME:GMT
DTSTART:20211031T010000
END:STANDARD
BEGIN:DAYLIGHT
TZOFFSETFROM:+0000
TZOFFSETTO:+0100
TZNAME:BST
DTSTART:20220327T010000
END:DAYLIGHT
BEGIN:STANDARD
TZOFFSETFROM:+0100
TZOFFSETTO:+0000
TZNAME:GMT
DTSTART:20221030T010000
END:STANDARD
BEGIN:DAYLIGHT
TZOFFSETFROM:+0000
TZOFFSETTO:+0100
TZNAME:BST
DTSTART:20230326T010000
END:DAYLIGHT
BEGIN:STANDARD
TZOFFSETFROM:+0100
TZOFFSETTO:+0000
TZNAME:GMT
DTSTART:20231029T010000
END:STANDARD
BEGIN:DAYLIGHT
TZOFFSETFROM:+0000
TZOFFSETTO:+0100
TZNAME:BST
DTSTART:20240331T010000
END:DAYLIGHT
BEGIN:STANDARD
TZOFFSETFROM:+0100
TZOFFSETTO:+0000
TZNAME:GMT
DTSTART:20241027T010000
END:STANDARD
END:VTIMEZONE
BEGIN:VEVENT
DTSTART;TZID=Europe/London:20230720T110000
DTEND;TZID=Europe/London:20230720T123000
DTSTAMP:20260419T224448
CREATED:20211215T171641Z
LAST-MODIFIED:20230611T183011Z
UID:10002075-1689850800-1689856200@www.pulse4life.co.uk
SUMMARY:HOME ED. SPORTS Stroud
DESCRIPTION:Multi-Sports sessions in the park – fun first!\nTag games\, invasion sports\, striking and fielding\, athletics are all part of these inclusive sessions. \nA small\, friendly\, active\, no pressure class where everyone is valued and develops both individual and group skills \nBook air space now!
URL:https://www.pulse4life.co.uk/event/stroud-home-ed/2023-07-20/
CATEGORIES:Home Ed
ATTACH;FMTTYPE=image/jpeg:https://www.pulse4life.co.uk/wp-content/uploads/2018/04/home-ed-4.jpg
ORGANIZER;CN="Stuart Dunn":MAILTO:stuart@pulse4life.co.uk
END:VEVENT
BEGIN:VEVENT
DTSTART;TZID=Europe/London:20230713T110000
DTEND;TZID=Europe/London:20230713T123000
DTSTAMP:20260419T224448
CREATED:20211215T171641Z
LAST-MODIFIED:20230611T183011Z
UID:10002074-1689246000-1689251400@www.pulse4life.co.uk
SUMMARY:HOME ED. SPORTS Stroud
DESCRIPTION:Multi-Sports sessions in the park – fun first!\nTag games\, invasion sports\, striking and fielding\, athletics are all part of these inclusive sessions. \nA small\, friendly\, active\, no pressure class where everyone is valued and develops both individual and group skills \nBook air space now!
URL:https://www.pulse4life.co.uk/event/stroud-home-ed/2023-07-13/
CATEGORIES:Home Ed
ATTACH;FMTTYPE=image/jpeg:https://www.pulse4life.co.uk/wp-content/uploads/2018/04/home-ed-4.jpg
ORGANIZER;CN="Stuart Dunn":MAILTO:stuart@pulse4life.co.uk
END:VEVENT
BEGIN:VEVENT
DTSTART;TZID=Europe/London:20230706T110000
DTEND;TZID=Europe/London:20230706T123000
DTSTAMP:20260419T224448
CREATED:20211215T171641Z
LAST-MODIFIED:20230611T183011Z
UID:10002073-1688641200-1688646600@www.pulse4life.co.uk
SUMMARY:HOME ED. SPORTS Stroud
DESCRIPTION:Multi-Sports sessions in the park – fun first!\nTag games\, invasion sports\, striking and fielding\, athletics are all part of these inclusive sessions. \nA small\, friendly\, active\, no pressure class where everyone is valued and develops both individual and group skills \nBook air space now!
URL:https://www.pulse4life.co.uk/event/stroud-home-ed/2023-07-06/
CATEGORIES:Home Ed
ATTACH;FMTTYPE=image/jpeg:https://www.pulse4life.co.uk/wp-content/uploads/2018/04/home-ed-4.jpg
ORGANIZER;CN="Stuart Dunn":MAILTO:stuart@pulse4life.co.uk
END:VEVENT
BEGIN:VEVENT
DTSTART;TZID=Europe/London:20230629T110000
DTEND;TZID=Europe/London:20230629T123000
DTSTAMP:20260419T224448
CREATED:20211215T171641Z
LAST-MODIFIED:20230611T183011Z
UID:10002072-1688036400-1688041800@www.pulse4life.co.uk
SUMMARY:HOME ED. SPORTS Stroud
DESCRIPTION:Multi-Sports sessions in the park – fun first!\nTag games\, invasion sports\, striking and fielding\, athletics are all part of these inclusive sessions. \nA small\, friendly\, active\, no pressure class where everyone is valued and develops both individual and group skills \nBook air space now!
URL:https://www.pulse4life.co.uk/event/stroud-home-ed/2023-06-29/
CATEGORIES:Home Ed
ATTACH;FMTTYPE=image/jpeg:https://www.pulse4life.co.uk/wp-content/uploads/2018/04/home-ed-4.jpg
ORGANIZER;CN="Stuart Dunn":MAILTO:stuart@pulse4life.co.uk
END:VEVENT
BEGIN:VEVENT
DTSTART;TZID=Europe/London:20230622T110000
DTEND;TZID=Europe/London:20230622T123000
DTSTAMP:20260419T224448
CREATED:20211215T171641Z
LAST-MODIFIED:20230611T183011Z
UID:10002071-1687431600-1687437000@www.pulse4life.co.uk
SUMMARY:HOME ED. SPORTS Stroud
DESCRIPTION:Multi-Sports sessions in the park – fun first!\nTag games\, invasion sports\, striking and fielding\, athletics are all part of these inclusive sessions. \nA small\, friendly\, active\, no pressure class where everyone is valued and develops both individual and group skills \nBook air space now!
URL:https://www.pulse4life.co.uk/event/stroud-home-ed/2023-06-22/
CATEGORIES:Home Ed
ATTACH;FMTTYPE=image/jpeg:https://www.pulse4life.co.uk/wp-content/uploads/2018/04/home-ed-4.jpg
ORGANIZER;CN="Stuart Dunn":MAILTO:stuart@pulse4life.co.uk
END:VEVENT
BEGIN:VEVENT
DTSTART;TZID=Europe/London:20230615T110000
DTEND;TZID=Europe/London:20230615T123000
DTSTAMP:20260419T224448
CREATED:20211215T171641Z
LAST-MODIFIED:20230611T183011Z
UID:10002070-1686826800-1686832200@www.pulse4life.co.uk
SUMMARY:HOME ED. SPORTS Stroud
DESCRIPTION:Multi-Sports sessions in the park – fun first!\nTag games\, invasion sports\, striking and fielding\, athletics are all part of these inclusive sessions. \nA small\, friendly\, active\, no pressure class where everyone is valued and develops both individual and group skills \nBook air space now!
URL:https://www.pulse4life.co.uk/event/stroud-home-ed/2023-06-15/
CATEGORIES:Home Ed
ATTACH;FMTTYPE=image/jpeg:https://www.pulse4life.co.uk/wp-content/uploads/2018/04/home-ed-4.jpg
ORGANIZER;CN="Stuart Dunn":MAILTO:stuart@pulse4life.co.uk
END:VEVENT
BEGIN:VEVENT
DTSTART;TZID=Europe/London:20230608T110000
DTEND;TZID=Europe/London:20230608T123000
DTSTAMP:20260419T224448
CREATED:20211215T171641Z
LAST-MODIFIED:20230611T183011Z
UID:10001920-1686222000-1686227400@www.pulse4life.co.uk
SUMMARY:HOME ED. SPORTS Stroud
DESCRIPTION:Multi-Sports sessions in the park – fun first!\nTag games\, invasion sports\, striking and fielding\, athletics are all part of these inclusive sessions. \nA small\, friendly\, active\, no pressure class where everyone is valued and develops both individual and group skills \nBook air space now!
URL:https://www.pulse4life.co.uk/event/stroud-home-ed/2023-06-08/
CATEGORIES:Home Ed
ATTACH;FMTTYPE=image/jpeg:https://www.pulse4life.co.uk/wp-content/uploads/2018/04/home-ed-4.jpg
ORGANIZER;CN="Stuart Dunn":MAILTO:stuart@pulse4life.co.uk
END:VEVENT
BEGIN:VEVENT
DTSTART;TZID=Europe/London:20230601T110000
DTEND;TZID=Europe/London:20230601T123000
DTSTAMP:20260419T224448
CREATED:20211215T171641Z
LAST-MODIFIED:20230611T183011Z
UID:10001919-1685617200-1685622600@www.pulse4life.co.uk
SUMMARY:HOME ED. SPORTS Stroud
DESCRIPTION:Multi-Sports sessions in the park – fun first!\nTag games\, invasion sports\, striking and fielding\, athletics are all part of these inclusive sessions. \nA small\, friendly\, active\, no pressure class where everyone is valued and develops both individual and group skills \nBook air space now!
URL:https://www.pulse4life.co.uk/event/stroud-home-ed/2023-06-01/
CATEGORIES:Home Ed
ATTACH;FMTTYPE=image/jpeg:https://www.pulse4life.co.uk/wp-content/uploads/2018/04/home-ed-4.jpg
ORGANIZER;CN="Stuart Dunn":MAILTO:stuart@pulse4life.co.uk
END:VEVENT
BEGIN:VEVENT
DTSTART;TZID=Europe/London:20230525T110000
DTEND;TZID=Europe/London:20230525T123000
DTSTAMP:20260419T224448
CREATED:20211215T171641Z
LAST-MODIFIED:20230611T183011Z
UID:10001918-1685012400-1685017800@www.pulse4life.co.uk
SUMMARY:HOME ED. SPORTS Stroud
DESCRIPTION:Multi-Sports sessions in the park – fun first!\nTag games\, invasion sports\, striking and fielding\, athletics are all part of these inclusive sessions. \nA small\, friendly\, active\, no pressure class where everyone is valued and develops both individual and group skills \nBook air space now!
URL:https://www.pulse4life.co.uk/event/stroud-home-ed/2023-05-25/
CATEGORIES:Home Ed
ATTACH;FMTTYPE=image/jpeg:https://www.pulse4life.co.uk/wp-content/uploads/2018/04/home-ed-4.jpg
ORGANIZER;CN="Stuart Dunn":MAILTO:stuart@pulse4life.co.uk
END:VEVENT
BEGIN:VEVENT
DTSTART;TZID=Europe/London:20230518T110000
DTEND;TZID=Europe/London:20230518T123000
DTSTAMP:20260419T224448
CREATED:20211215T171641Z
LAST-MODIFIED:20230611T183011Z
UID:10001917-1684407600-1684413000@www.pulse4life.co.uk
SUMMARY:HOME ED. SPORTS Stroud
DESCRIPTION:Multi-Sports sessions in the park – fun first!\nTag games\, invasion sports\, striking and fielding\, athletics are all part of these inclusive sessions. \nA small\, friendly\, active\, no pressure class where everyone is valued and develops both individual and group skills \nBook air space now!
URL:https://www.pulse4life.co.uk/event/stroud-home-ed/2023-05-18/
CATEGORIES:Home Ed
ATTACH;FMTTYPE=image/jpeg:https://www.pulse4life.co.uk/wp-content/uploads/2018/04/home-ed-4.jpg
ORGANIZER;CN="Stuart Dunn":MAILTO:stuart@pulse4life.co.uk
END:VEVENT
BEGIN:VEVENT
DTSTART;TZID=Europe/London:20230511T110000
DTEND;TZID=Europe/London:20230511T123000
DTSTAMP:20260419T224448
CREATED:20211215T171641Z
LAST-MODIFIED:20230611T183011Z
UID:10001916-1683802800-1683808200@www.pulse4life.co.uk
SUMMARY:HOME ED. SPORTS Stroud
DESCRIPTION:Multi-Sports sessions in the park – fun first!\nTag games\, invasion sports\, striking and fielding\, athletics are all part of these inclusive sessions. \nA small\, friendly\, active\, no pressure class where everyone is valued and develops both individual and group skills \nBook air space now!
URL:https://www.pulse4life.co.uk/event/stroud-home-ed/2023-05-11/
CATEGORIES:Home Ed
ATTACH;FMTTYPE=image/jpeg:https://www.pulse4life.co.uk/wp-content/uploads/2018/04/home-ed-4.jpg
ORGANIZER;CN="Stuart Dunn":MAILTO:stuart@pulse4life.co.uk
END:VEVENT
BEGIN:VEVENT
DTSTART;TZID=Europe/London:20230504T110000
DTEND;TZID=Europe/London:20230504T123000
DTSTAMP:20260419T224448
CREATED:20211215T171641Z
LAST-MODIFIED:20230611T183011Z
UID:10001915-1683198000-1683203400@www.pulse4life.co.uk
SUMMARY:HOME ED. SPORTS Stroud
DESCRIPTION:Multi-Sports sessions in the park – fun first!\nTag games\, invasion sports\, striking and fielding\, athletics are all part of these inclusive sessions. \nA small\, friendly\, active\, no pressure class where everyone is valued and develops both individual and group skills \nBook air space now!
URL:https://www.pulse4life.co.uk/event/stroud-home-ed/2023-05-04/
CATEGORIES:Home Ed
ATTACH;FMTTYPE=image/jpeg:https://www.pulse4life.co.uk/wp-content/uploads/2018/04/home-ed-4.jpg
ORGANIZER;CN="Stuart Dunn":MAILTO:stuart@pulse4life.co.uk
END:VEVENT
BEGIN:VEVENT
DTSTART;TZID=Europe/London:20230427T110000
DTEND;TZID=Europe/London:20230427T123000
DTSTAMP:20260419T224448
CREATED:20211215T171641Z
LAST-MODIFIED:20230611T183011Z
UID:10001855-1682593200-1682598600@www.pulse4life.co.uk
SUMMARY:HOME ED. SPORTS Stroud
DESCRIPTION:Multi-Sports sessions in the park – fun first!\nTag games\, invasion sports\, striking and fielding\, athletics are all part of these inclusive sessions. \nA small\, friendly\, active\, no pressure class where everyone is valued and develops both individual and group skills \nBook air space now!
URL:https://www.pulse4life.co.uk/event/stroud-home-ed/2023-04-27/
CATEGORIES:Home Ed
ATTACH;FMTTYPE=image/jpeg:https://www.pulse4life.co.uk/wp-content/uploads/2018/04/home-ed-4.jpg
ORGANIZER;CN="Stuart Dunn":MAILTO:stuart@pulse4life.co.uk
END:VEVENT
BEGIN:VEVENT
DTSTART;TZID=Europe/London:20230420T110000
DTEND;TZID=Europe/London:20230420T123000
DTSTAMP:20260419T224448
CREATED:20211215T171641Z
LAST-MODIFIED:20230611T183011Z
UID:10001854-1681988400-1681993800@www.pulse4life.co.uk
SUMMARY:HOME ED. SPORTS Stroud
DESCRIPTION:Multi-Sports sessions in the park – fun first!\nTag games\, invasion sports\, striking and fielding\, athletics are all part of these inclusive sessions. \nA small\, friendly\, active\, no pressure class where everyone is valued and develops both individual and group skills \nBook air space now!
URL:https://www.pulse4life.co.uk/event/stroud-home-ed/2023-04-20/
CATEGORIES:Home Ed
ATTACH;FMTTYPE=image/jpeg:https://www.pulse4life.co.uk/wp-content/uploads/2018/04/home-ed-4.jpg
ORGANIZER;CN="Stuart Dunn":MAILTO:stuart@pulse4life.co.uk
END:VEVENT
BEGIN:VEVENT
DTSTART;TZID=Europe/London:20230413T110000
DTEND;TZID=Europe/London:20230413T123000
DTSTAMP:20260419T224448
CREATED:20211215T171641Z
LAST-MODIFIED:20230611T183011Z
UID:10001853-1681383600-1681389000@www.pulse4life.co.uk
SUMMARY:HOME ED. SPORTS Stroud
DESCRIPTION:Multi-Sports sessions in the park – fun first!\nTag games\, invasion sports\, striking and fielding\, athletics are all part of these inclusive sessions. \nA small\, friendly\, active\, no pressure class where everyone is valued and develops both individual and group skills \nBook air space now!
URL:https://www.pulse4life.co.uk/event/stroud-home-ed/2023-04-13/
CATEGORIES:Home Ed
ATTACH;FMTTYPE=image/jpeg:https://www.pulse4life.co.uk/wp-content/uploads/2018/04/home-ed-4.jpg
ORGANIZER;CN="Stuart Dunn":MAILTO:stuart@pulse4life.co.uk
END:VEVENT
BEGIN:VEVENT
DTSTART;TZID=Europe/London:20230406T110000
DTEND;TZID=Europe/London:20230406T123000
DTSTAMP:20260419T224448
CREATED:20211215T171641Z
LAST-MODIFIED:20230611T183011Z
UID:10001852-1680778800-1680784200@www.pulse4life.co.uk
SUMMARY:HOME ED. SPORTS Stroud
DESCRIPTION:Multi-Sports sessions in the park – fun first!\nTag games\, invasion sports\, striking and fielding\, athletics are all part of these inclusive sessions. \nA small\, friendly\, active\, no pressure class where everyone is valued and develops both individual and group skills \nBook air space now!
URL:https://www.pulse4life.co.uk/event/stroud-home-ed/2023-04-06/
CATEGORIES:Home Ed
ATTACH;FMTTYPE=image/jpeg:https://www.pulse4life.co.uk/wp-content/uploads/2018/04/home-ed-4.jpg
ORGANIZER;CN="Stuart Dunn":MAILTO:stuart@pulse4life.co.uk
END:VEVENT
BEGIN:VEVENT
DTSTART;TZID=Europe/London:20230330T110000
DTEND;TZID=Europe/London:20230330T123000
DTSTAMP:20260419T224448
CREATED:20211215T171641Z
LAST-MODIFIED:20230611T183011Z
UID:10001851-1680174000-1680179400@www.pulse4life.co.uk
SUMMARY:HOME ED. SPORTS Stroud
DESCRIPTION:Multi-Sports sessions in the park – fun first!\nTag games\, invasion sports\, striking and fielding\, athletics are all part of these inclusive sessions. \nA small\, friendly\, active\, no pressure class where everyone is valued and develops both individual and group skills \nBook air space now!
URL:https://www.pulse4life.co.uk/event/stroud-home-ed/2023-03-30/
CATEGORIES:Home Ed
ATTACH;FMTTYPE=image/jpeg:https://www.pulse4life.co.uk/wp-content/uploads/2018/04/home-ed-4.jpg
ORGANIZER;CN="Stuart Dunn":MAILTO:stuart@pulse4life.co.uk
END:VEVENT
BEGIN:VEVENT
DTSTART;TZID=Europe/London:20230323T110000
DTEND;TZID=Europe/London:20230323T123000
DTSTAMP:20260419T224448
CREATED:20211215T171641Z
LAST-MODIFIED:20230611T183011Z
UID:10001850-1679569200-1679574600@www.pulse4life.co.uk
SUMMARY:HOME ED. SPORTS Stroud
DESCRIPTION:Multi-Sports sessions in the park – fun first!\nTag games\, invasion sports\, striking and fielding\, athletics are all part of these inclusive sessions. \nA small\, friendly\, active\, no pressure class where everyone is valued and develops both individual and group skills \nBook air space now!
URL:https://www.pulse4life.co.uk/event/stroud-home-ed/2023-03-23/
CATEGORIES:Home Ed
ATTACH;FMTTYPE=image/jpeg:https://www.pulse4life.co.uk/wp-content/uploads/2018/04/home-ed-4.jpg
ORGANIZER;CN="Stuart Dunn":MAILTO:stuart@pulse4life.co.uk
END:VEVENT
BEGIN:VEVENT
DTSTART;TZID=Europe/London:20230316T110000
DTEND;TZID=Europe/London:20230316T123000
DTSTAMP:20260419T224448
CREATED:20211215T171641Z
LAST-MODIFIED:20230611T183011Z
UID:10002069-1678964400-1678969800@www.pulse4life.co.uk
SUMMARY:HOME ED. SPORTS Stroud
DESCRIPTION:Multi-Sports sessions in the park – fun first!\nTag games\, invasion sports\, striking and fielding\, athletics are all part of these inclusive sessions. \nA small\, friendly\, active\, no pressure class where everyone is valued and develops both individual and group skills \nBook air space now!
URL:https://www.pulse4life.co.uk/event/stroud-home-ed/2023-03-16/
CATEGORIES:Home Ed
ATTACH;FMTTYPE=image/jpeg:https://www.pulse4life.co.uk/wp-content/uploads/2018/04/home-ed-4.jpg
ORGANIZER;CN="Stuart Dunn":MAILTO:stuart@pulse4life.co.uk
END:VEVENT
BEGIN:VEVENT
DTSTART;TZID=Europe/London:20230309T110000
DTEND;TZID=Europe/London:20230309T123000
DTSTAMP:20260419T224448
CREATED:20211215T171641Z
LAST-MODIFIED:20230611T183011Z
UID:10001816-1678359600-1678365000@www.pulse4life.co.uk
SUMMARY:HOME ED. SPORTS Stroud
DESCRIPTION:Multi-Sports sessions in the park – fun first!\nTag games\, invasion sports\, striking and fielding\, athletics are all part of these inclusive sessions. \nA small\, friendly\, active\, no pressure class where everyone is valued and develops both individual and group skills \nBook air space now!
URL:https://www.pulse4life.co.uk/event/stroud-home-ed/2023-03-09/
CATEGORIES:Home Ed
ATTACH;FMTTYPE=image/jpeg:https://www.pulse4life.co.uk/wp-content/uploads/2018/04/home-ed-4.jpg
ORGANIZER;CN="Stuart Dunn":MAILTO:stuart@pulse4life.co.uk
END:VEVENT
BEGIN:VEVENT
DTSTART;TZID=Europe/London:20230302T110000
DTEND;TZID=Europe/London:20230302T123000
DTSTAMP:20260419T224448
CREATED:20211215T171641Z
LAST-MODIFIED:20230611T183011Z
UID:10001815-1677754800-1677760200@www.pulse4life.co.uk
SUMMARY:HOME ED. SPORTS Stroud
DESCRIPTION:Multi-Sports sessions in the park – fun first!\nTag games\, invasion sports\, striking and fielding\, athletics are all part of these inclusive sessions. \nA small\, friendly\, active\, no pressure class where everyone is valued and develops both individual and group skills \nBook air space now!
URL:https://www.pulse4life.co.uk/event/stroud-home-ed/2023-03-02/
CATEGORIES:Home Ed
ATTACH;FMTTYPE=image/jpeg:https://www.pulse4life.co.uk/wp-content/uploads/2018/04/home-ed-4.jpg
ORGANIZER;CN="Stuart Dunn":MAILTO:stuart@pulse4life.co.uk
END:VEVENT
BEGIN:VEVENT
DTSTART;TZID=Europe/London:20230223T110000
DTEND;TZID=Europe/London:20230223T123000
DTSTAMP:20260419T224448
CREATED:20211215T171641Z
LAST-MODIFIED:20230611T183011Z
UID:10001814-1677150000-1677155400@www.pulse4life.co.uk
SUMMARY:HOME ED. SPORTS Stroud
DESCRIPTION:Multi-Sports sessions in the park – fun first!\nTag games\, invasion sports\, striking and fielding\, athletics are all part of these inclusive sessions. \nA small\, friendly\, active\, no pressure class where everyone is valued and develops both individual and group skills \nBook air space now!
URL:https://www.pulse4life.co.uk/event/stroud-home-ed/2023-02-23/
CATEGORIES:Home Ed
ATTACH;FMTTYPE=image/jpeg:https://www.pulse4life.co.uk/wp-content/uploads/2018/04/home-ed-4.jpg
ORGANIZER;CN="Stuart Dunn":MAILTO:stuart@pulse4life.co.uk
END:VEVENT
BEGIN:VEVENT
DTSTART;TZID=Europe/London:20230216T110000
DTEND;TZID=Europe/London:20230216T123000
DTSTAMP:20260419T224448
CREATED:20211215T171641Z
LAST-MODIFIED:20230611T183011Z
UID:10001813-1676545200-1676550600@www.pulse4life.co.uk
SUMMARY:HOME ED. SPORTS Stroud
DESCRIPTION:Multi-Sports sessions in the park – fun first!\nTag games\, invasion sports\, striking and fielding\, athletics are all part of these inclusive sessions. \nA small\, friendly\, active\, no pressure class where everyone is valued and develops both individual and group skills \nBook air space now!
URL:https://www.pulse4life.co.uk/event/stroud-home-ed/2023-02-16/
CATEGORIES:Home Ed
ATTACH;FMTTYPE=image/jpeg:https://www.pulse4life.co.uk/wp-content/uploads/2018/04/home-ed-4.jpg
ORGANIZER;CN="Stuart Dunn":MAILTO:stuart@pulse4life.co.uk
END:VEVENT
BEGIN:VEVENT
DTSTART;TZID=Europe/London:20230209T110000
DTEND;TZID=Europe/London:20230209T123000
DTSTAMP:20260419T224448
CREATED:20211215T171641Z
LAST-MODIFIED:20230611T183011Z
UID:10001712-1675940400-1675945800@www.pulse4life.co.uk
SUMMARY:HOME ED. SPORTS Stroud
DESCRIPTION:Multi-Sports sessions in the park – fun first!\nTag games\, invasion sports\, striking and fielding\, athletics are all part of these inclusive sessions. \nA small\, friendly\, active\, no pressure class where everyone is valued and develops both individual and group skills \nBook air space now!
URL:https://www.pulse4life.co.uk/event/stroud-home-ed/2023-02-09/
CATEGORIES:Home Ed
ATTACH;FMTTYPE=image/jpeg:https://www.pulse4life.co.uk/wp-content/uploads/2018/04/home-ed-4.jpg
ORGANIZER;CN="Stuart Dunn":MAILTO:stuart@pulse4life.co.uk
END:VEVENT
BEGIN:VEVENT
DTSTART;TZID=Europe/London:20230202T110000
DTEND;TZID=Europe/London:20230202T123000
DTSTAMP:20260419T224448
CREATED:20211215T171641Z
LAST-MODIFIED:20230611T183011Z
UID:10001711-1675335600-1675341000@www.pulse4life.co.uk
SUMMARY:HOME ED. SPORTS Stroud
DESCRIPTION:Multi-Sports sessions in the park – fun first!\nTag games\, invasion sports\, striking and fielding\, athletics are all part of these inclusive sessions. \nA small\, friendly\, active\, no pressure class where everyone is valued and develops both individual and group skills \nBook air space now!
URL:https://www.pulse4life.co.uk/event/stroud-home-ed/2023-02-02/
CATEGORIES:Home Ed
ATTACH;FMTTYPE=image/jpeg:https://www.pulse4life.co.uk/wp-content/uploads/2018/04/home-ed-4.jpg
ORGANIZER;CN="Stuart Dunn":MAILTO:stuart@pulse4life.co.uk
END:VEVENT
BEGIN:VEVENT
DTSTART;TZID=Europe/London:20230126T110000
DTEND;TZID=Europe/London:20230126T123000
DTSTAMP:20260419T224448
CREATED:20211215T171641Z
LAST-MODIFIED:20230611T183011Z
UID:10001710-1674730800-1674736200@www.pulse4life.co.uk
SUMMARY:HOME ED. SPORTS Stroud
DESCRIPTION:Multi-Sports sessions in the park – fun first!\nTag games\, invasion sports\, striking and fielding\, athletics are all part of these inclusive sessions. \nA small\, friendly\, active\, no pressure class where everyone is valued and develops both individual and group skills \nBook air space now!
URL:https://www.pulse4life.co.uk/event/stroud-home-ed/2023-01-26/
CATEGORIES:Home Ed
ATTACH;FMTTYPE=image/jpeg:https://www.pulse4life.co.uk/wp-content/uploads/2018/04/home-ed-4.jpg
ORGANIZER;CN="Stuart Dunn":MAILTO:stuart@pulse4life.co.uk
END:VEVENT
BEGIN:VEVENT
DTSTART;TZID=Europe/London:20230119T110000
DTEND;TZID=Europe/London:20230119T123000
DTSTAMP:20260419T224448
CREATED:20211215T171641Z
LAST-MODIFIED:20230611T183011Z
UID:10001709-1674126000-1674131400@www.pulse4life.co.uk
SUMMARY:HOME ED. SPORTS Stroud
DESCRIPTION:Multi-Sports sessions in the park – fun first!\nTag games\, invasion sports\, striking and fielding\, athletics are all part of these inclusive sessions. \nA small\, friendly\, active\, no pressure class where everyone is valued and develops both individual and group skills \nBook air space now!
URL:https://www.pulse4life.co.uk/event/stroud-home-ed/2023-01-19/
CATEGORIES:Home Ed
ATTACH;FMTTYPE=image/jpeg:https://www.pulse4life.co.uk/wp-content/uploads/2018/04/home-ed-4.jpg
ORGANIZER;CN="Stuart Dunn":MAILTO:stuart@pulse4life.co.uk
END:VEVENT
BEGIN:VEVENT
DTSTART;TZID=Europe/London:20230112T110000
DTEND;TZID=Europe/London:20230112T123000
DTSTAMP:20260419T224448
CREATED:20211215T171641Z
LAST-MODIFIED:20230611T183011Z
UID:10001708-1673521200-1673526600@www.pulse4life.co.uk
SUMMARY:HOME ED. SPORTS Stroud
DESCRIPTION:Multi-Sports sessions in the park – fun first!\nTag games\, invasion sports\, striking and fielding\, athletics are all part of these inclusive sessions. \nA small\, friendly\, active\, no pressure class where everyone is valued and develops both individual and group skills \nBook air space now!
URL:https://www.pulse4life.co.uk/event/stroud-home-ed/2023-01-12/
CATEGORIES:Home Ed
ATTACH;FMTTYPE=image/jpeg:https://www.pulse4life.co.uk/wp-content/uploads/2018/04/home-ed-4.jpg
ORGANIZER;CN="Stuart Dunn":MAILTO:stuart@pulse4life.co.uk
END:VEVENT
BEGIN:VEVENT
DTSTART;TZID=Europe/London:20230105T110000
DTEND;TZID=Europe/London:20230105T123000
DTSTAMP:20260419T224448
CREATED:20211215T171641Z
LAST-MODIFIED:20230611T183011Z
UID:10001707-1672916400-1672921800@www.pulse4life.co.uk
SUMMARY:HOME ED. SPORTS Stroud
DESCRIPTION:Multi-Sports sessions in the park – fun first!\nTag games\, invasion sports\, striking and fielding\, athletics are all part of these inclusive sessions. \nA small\, friendly\, active\, no pressure class where everyone is valued and develops both individual and group skills \nBook air space now!
URL:https://www.pulse4life.co.uk/event/stroud-home-ed/2023-01-05/
CATEGORIES:Home Ed
ATTACH;FMTTYPE=image/jpeg:https://www.pulse4life.co.uk/wp-content/uploads/2018/04/home-ed-4.jpg
ORGANIZER;CN="Stuart Dunn":MAILTO:stuart@pulse4life.co.uk
END:VEVENT
BEGIN:VEVENT
DTSTART;TZID=Europe/London:20221229T110000
DTEND;TZID=Europe/London:20221229T123000
DTSTAMP:20260419T224448
CREATED:20211215T171641Z
LAST-MODIFIED:20230611T183011Z
UID:10001849-1672311600-1672317000@www.pulse4life.co.uk
SUMMARY:HOME ED. SPORTS Stroud
DESCRIPTION:Multi-Sports sessions in the park – fun first!\nTag games\, invasion sports\, striking and fielding\, athletics are all part of these inclusive sessions. \nA small\, friendly\, active\, no pressure class where everyone is valued and develops both individual and group skills \nBook air space now!
URL:https://www.pulse4life.co.uk/event/stroud-home-ed/2022-12-29/
CATEGORIES:Home Ed
ATTACH;FMTTYPE=image/jpeg:https://www.pulse4life.co.uk/wp-content/uploads/2018/04/home-ed-4.jpg
ORGANIZER;CN="Stuart Dunn":MAILTO:stuart@pulse4life.co.uk
END:VEVENT
END:VCALENDAR