BEGIN:VCALENDAR
VERSION:2.0
PRODID:-//Pulse4Life - Mind, Body, Rhythm - ECPv6.15.20//NONSGML v1.0//EN
CALSCALE:GREGORIAN
METHOD:PUBLISH
X-WR-CALNAME:Pulse4Life - Mind, Body, Rhythm
X-ORIGINAL-URL:https://www.pulse4life.co.uk
X-WR-CALDESC:Events for Pulse4Life - Mind, Body, Rhythm
REFRESH-INTERVAL;VALUE=DURATION:PT1H
X-Robots-Tag:noindex
X-PUBLISHED-TTL:PT1H
BEGIN:VTIMEZONE
TZID:Europe/London
BEGIN:DAYLIGHT
TZOFFSETFROM:+0000
TZOFFSETTO:+0100
TZNAME:BST
DTSTART:20250330T010000
END:DAYLIGHT
BEGIN:STANDARD
TZOFFSETFROM:+0100
TZOFFSETTO:+0000
TZNAME:GMT
DTSTART:20251026T010000
END:STANDARD
BEGIN:DAYLIGHT
TZOFFSETFROM:+0000
TZOFFSETTO:+0100
TZNAME:BST
DTSTART:20260329T010000
END:DAYLIGHT
BEGIN:STANDARD
TZOFFSETFROM:+0100
TZOFFSETTO:+0000
TZNAME:GMT
DTSTART:20261025T010000
END:STANDARD
BEGIN:DAYLIGHT
TZOFFSETFROM:+0000
TZOFFSETTO:+0100
TZNAME:BST
DTSTART:20270328T010000
END:DAYLIGHT
BEGIN:STANDARD
TZOFFSETFROM:+0100
TZOFFSETTO:+0000
TZNAME:GMT
DTSTART:20271031T010000
END:STANDARD
END:VTIMEZONE
BEGIN:VEVENT
DTSTART;TZID=Europe/London:20260422T183000
DTEND;TZID=Europe/London:20260422T193000
DTSTAMP:20260422T115340
CREATED:20221218T201902Z
LAST-MODIFIED:20260405T161029Z
UID:10017285-1776882600-1776886200@www.pulse4life.co.uk
SUMMARY:PILATES - Open House Stroud
DESCRIPTION:  \nWednesday evening Pilates with Stuart Dunn at The Open House\, Stroud GL5 1QG will challenge both newcomers and those with an intermediate (or advanced) mat practice. \nThis is a total body conditioning class focussing on building a strong core whilst developing strength and flexibility. An excellent way to improve posture and increase energy and vitality and rehabilitate from injury or chronic back issues. \n6 week block £57 (drop-in £12)
URL:https://www.pulse4life.co.uk/event/pilates-open-house-stroud/2026-04-22/
LOCATION:Open House\, GL5 1QG\, United Kingdom
CATEGORIES:Pilates
ATTACH;FMTTYPE=image/jpeg:https://www.pulse4life.co.uk/wp-content/uploads/2022/12/DSC02017-scaled.jpg
ORGANIZER;CN="Stuart Dunn":MAILTO:stuart@pulse4life.co.uk
END:VEVENT
END:VCALENDAR